BEGIN:VCALENDAR
VERSION:2.0
PRODID:-//The Mustard Seed - ECPv6.6.4.2//NONSGML v1.0//EN
CALSCALE:GREGORIAN
METHOD:PUBLISH
X-ORIGINAL-URL:https://mustardseedms.org
X-WR-CALDESC:Events for The Mustard Seed
REFRESH-INTERVAL;VALUE=DURATION:PT1H
X-Robots-Tag:noindex
X-PUBLISHED-TTL:PT1H
BEGIN:VTIMEZONE

END:VTIMEZONE
BEGIN:VEVENT
DTSTART;VALUE=DATE:20260423
DTEND;VALUE=DATE:20230105
DTSTAMP:20260423T183554
CREATED:20230103T224542Z
LAST-MODIFIED:20230103T224542Z
UID:4025-0-1672876799@mustardseedms.org
SUMMARY:National Trivia Day
DESCRIPTION:(Private Event)
URL:https://mustardseedms.org/event/national-trivia-day-2/
CATEGORIES:Activity Center
END:VEVENT
BEGIN:VEVENT
DTSTART;VALUE=DATE:20200731
DTEND;VALUE=DATE:20200801
DTSTAMP:20260423T183554
CREATED:20200729T142905Z
LAST-MODIFIED:20200729T142906Z
UID:1924-1596153600-1596239999@mustardseedms.org
SUMMARY:Lasty Day to purchase Christmas in July Grab n' Go Bags
DESCRIPTION:t’s that time of year again… Christmas in July at The Mustard Seed.\nPurchase a Christmas in July Grab ‘n’ Go Bag for $100 ($60 being a tax-deductible donation) with all the supplies you will need to paint four ceramic ornaments with your friends\, coworkers\, children\, grandchildren\, or even your spouse in the comfort of your very own home. Each bag will include 4 bisque ornaments\, ceramics paint\, and paintbrushes. Just pick-up your bag at either our Flowood or Madison pick-up location\, then return your ornaments and supplies by the end of the month. We will glaze and fire your ornaments and contact you when they’re ready for pick-up! Merry Christmas (in July)! \nhttps://mustardseedinc.redpodium.com/christmas-in-july-2020
URL:https://mustardseedms.org/event/lasty-day-to-purchase-christmas-in-july-grab-n-go-bags/
CATEGORIES:Events,Gift Shop,Homepage Featured Event
END:VEVENT
END:VCALENDAR