BEGIN:VCALENDAR
VERSION:2.0
PRODID:-//The Mustard Seed - ECPv6.6.4.2//NONSGML v1.0//EN
CALSCALE:GREGORIAN
METHOD:PUBLISH
X-ORIGINAL-URL:https://mustardseedms.org
X-WR-CALDESC:Events for The Mustard Seed
REFRESH-INTERVAL;VALUE=DURATION:PT1H
X-Robots-Tag:noindex
X-PUBLISHED-TTL:PT1H
BEGIN:VTIMEZONE
TZID:UTC
BEGIN:STANDARD
TZOFFSETFROM:+0000
TZOFFSETTO:+0000
TZNAME:UTC
DTSTART:20250101T000000
END:STANDARD
END:VTIMEZONE
BEGIN:VEVENT
DTSTART;VALUE=DATE:20250605
DTEND;VALUE=DATE:20250606
DTSTAMP:20260421T061958
CREATED:20190619T020504Z
LAST-MODIFIED:20190619T020504Z
UID:4499-1749081600-1749167999@mustardseedms.org
SUMMARY:Happy Birthday\, Rich Batte!
DESCRIPTION:
URL:https://mustardseedms.org/event/happy-birthday-rich-batte-2025-06-05/
CATEGORIES:Birthdays
END:VEVENT
END:VCALENDAR