BEGIN:VCALENDAR
VERSION:2.0
PRODID:-//The Mustard Seed - ECPv6.6.4.2//NONSGML v1.0//EN
CALSCALE:GREGORIAN
METHOD:PUBLISH
X-WR-CALNAME:The Mustard Seed
X-ORIGINAL-URL:https://mustardseedms.org
X-WR-CALDESC:Events for The Mustard Seed
REFRESH-INTERVAL;VALUE=DURATION:PT1H
X-Robots-Tag:noindex
X-PUBLISHED-TTL:PT1H
BEGIN:VTIMEZONE
TZID:UTC
BEGIN:STANDARD
TZOFFSETFROM:+0000
TZOFFSETTO:+0000
TZNAME:UTC
DTSTART:20260101T000000
END:STANDARD
END:VTIMEZONE
BEGIN:VEVENT
DTSTART;VALUE=DATE:20260403
DTEND;VALUE=DATE:20260404
DTSTAMP:20260424T204245
CREATED:20190619T031625Z
LAST-MODIFIED:20190619T031625Z
UID:5163-1775174400-1775260799@mustardseedms.org
SUMMARY:Happy Birthday\, Sarah Simonson!
DESCRIPTION:
URL:https://mustardseedms.org/event/happy-birthday-sarah-simonson-2-2026-04-03/
CATEGORIES:Birthdays
END:VEVENT
END:VCALENDAR