BEGIN:VCALENDAR
VERSION:2.0
PRODID:-//The Mustard Seed - ECPv6.6.4.2//NONSGML v1.0//EN
CALSCALE:GREGORIAN
METHOD:PUBLISH
X-WR-CALNAME:The Mustard Seed
X-ORIGINAL-URL:https://mustardseedms.org
X-WR-CALDESC:Events for The Mustard Seed
REFRESH-INTERVAL;VALUE=DURATION:PT1H
X-Robots-Tag:noindex
X-PUBLISHED-TTL:PT1H
BEGIN:VTIMEZONE
TZID:America/Chicago
BEGIN:DAYLIGHT
TZOFFSETFROM:-0600
TZOFFSETTO:-0500
TZNAME:CDT
DTSTART:20210314T080000
END:DAYLIGHT
BEGIN:STANDARD
TZOFFSETFROM:-0500
TZOFFSETTO:-0600
TZNAME:CST
DTSTART:20211107T070000
END:STANDARD
BEGIN:DAYLIGHT
TZOFFSETFROM:-0600
TZOFFSETTO:-0500
TZNAME:CDT
DTSTART:20220313T080000
END:DAYLIGHT
BEGIN:STANDARD
TZOFFSETFROM:-0500
TZOFFSETTO:-0600
TZNAME:CST
DTSTART:20221106T070000
END:STANDARD
BEGIN:DAYLIGHT
TZOFFSETFROM:-0600
TZOFFSETTO:-0500
TZNAME:CDT
DTSTART:20230312T080000
END:DAYLIGHT
BEGIN:STANDARD
TZOFFSETFROM:-0500
TZOFFSETTO:-0600
TZNAME:CST
DTSTART:20231105T070000
END:STANDARD
BEGIN:DAYLIGHT
TZOFFSETFROM:-0600
TZOFFSETTO:-0500
TZNAME:CDT
DTSTART:20240310T080000
END:DAYLIGHT
BEGIN:STANDARD
TZOFFSETFROM:-0500
TZOFFSETTO:-0600
TZNAME:CST
DTSTART:20241103T070000
END:STANDARD
BEGIN:DAYLIGHT
TZOFFSETFROM:-0600
TZOFFSETTO:-0500
TZNAME:CDT
DTSTART:20250309T080000
END:DAYLIGHT
BEGIN:STANDARD
TZOFFSETFROM:-0500
TZOFFSETTO:-0600
TZNAME:CST
DTSTART:20251102T070000
END:STANDARD
END:VTIMEZONE
BEGIN:VEVENT
DTSTART;VALUE=DATE:20241223
DTEND;VALUE=DATE:20250104
DTSTAMP:20260421T062440
CREATED:20240326T193047Z
LAST-MODIFIED:20240326T193047Z
UID:5041-1734912000-1735948799@mustardseedms.org
SUMMARY:Day Program Closed for Christmas & New Year's
DESCRIPTION:
URL:https://mustardseedms.org/event/day-program-closed-for-christmas-new-years-6/
CATEGORIES:Day Program
END:VEVENT
BEGIN:VEVENT
DTSTART;VALUE=DATE:20241128
DTEND;VALUE=DATE:20241130
DTSTAMP:20260421T062440
CREATED:20240326T193047Z
LAST-MODIFIED:20240326T193047Z
UID:5040-1732752000-1732924799@mustardseedms.org
SUMMARY:Day Program Closed for Thanksgiving
DESCRIPTION:
URL:https://mustardseedms.org/event/day-program-closed-for-thanksgiving-6/
CATEGORIES:Day Program
END:VEVENT
BEGIN:VEVENT
DTSTART;VALUE=DATE:20240902
DTEND;VALUE=DATE:20240903
DTSTAMP:20260421T062440
CREATED:20240326T193045Z
LAST-MODIFIED:20240326T193045Z
UID:5039-1725235200-1725321599@mustardseedms.org
SUMMARY:Day Program Closed for Labor Day
DESCRIPTION:
URL:https://mustardseedms.org/event/day-program-closed-for-labor-day-6/
CATEGORIES:Day Program
END:VEVENT
BEGIN:VEVENT
DTSTART;VALUE=DATE:20240704
DTEND;VALUE=DATE:20240705
DTSTAMP:20260421T062440
CREATED:20240326T193045Z
LAST-MODIFIED:20240326T193045Z
UID:5038-1720051200-1720137599@mustardseedms.org
SUMMARY:Day Program Closed for 4th of July
DESCRIPTION:
URL:https://mustardseedms.org/event/day-program-closed-for-4th-of-july-6/
CATEGORIES:Day Program
END:VEVENT
BEGIN:VEVENT
DTSTART;VALUE=DATE:20240528
DTEND;VALUE=DATE:20240529
DTSTAMP:20260421T062440
CREATED:20240326T193044Z
LAST-MODIFIED:20240326T193044Z
UID:5037-1716854400-1716940799@mustardseedms.org
SUMMARY:Day Program Closed for Staff In-Service Day
DESCRIPTION:
URL:https://mustardseedms.org/event/day-program-closed-for-staff-in-service-day-6/
CATEGORIES:Day Program
END:VEVENT
BEGIN:VEVENT
DTSTART;VALUE=DATE:20240527
DTEND;VALUE=DATE:20240528
DTSTAMP:20260421T062440
CREATED:20240326T193043Z
LAST-MODIFIED:20240326T193043Z
UID:5036-1716768000-1716854399@mustardseedms.org
SUMMARY:Day Program Closed for Memorial Day
DESCRIPTION:
URL:https://mustardseedms.org/event/day-program-closed-for-memorial-day-6/
CATEGORIES:Day Program
END:VEVENT
BEGIN:VEVENT
DTSTART;VALUE=DATE:20240401
DTEND;VALUE=DATE:20240402
DTSTAMP:20260421T062440
CREATED:20240326T193042Z
LAST-MODIFIED:20240326T193042Z
UID:5035-1711929600-1712015999@mustardseedms.org
SUMMARY:Day Program Closed for Easter
DESCRIPTION:
URL:https://mustardseedms.org/event/day-program-closed-for-easter-12/
CATEGORIES:Day Program
END:VEVENT
BEGIN:VEVENT
DTSTART;VALUE=DATE:20240329
DTEND;VALUE=DATE:20240330
DTSTAMP:20260421T062440
CREATED:20240326T193041Z
LAST-MODIFIED:20240326T193041Z
UID:5034-1711670400-1711756799@mustardseedms.org
SUMMARY:Day Program Closed for Easter
DESCRIPTION:
URL:https://mustardseedms.org/event/day-program-closed-for-easter-11/
CATEGORIES:Day Program
END:VEVENT
BEGIN:VEVENT
DTSTART;VALUE=DATE:20231221
DTEND;VALUE=DATE:20240103
DTSTAMP:20260421T062440
CREATED:20221205T221538Z
LAST-MODIFIED:20221205T221538Z
UID:3978-1703116800-1704239999@mustardseedms.org
SUMMARY:Day Program Closed for Christmas & New Year's
DESCRIPTION:
URL:https://mustardseedms.org/event/day-program-closed-for-christmas-new-years-5/
CATEGORIES:Day Program
END:VEVENT
BEGIN:VEVENT
DTSTART;VALUE=DATE:20231123
DTEND;VALUE=DATE:20231125
DTSTAMP:20260421T062440
CREATED:20221205T221537Z
LAST-MODIFIED:20221205T221537Z
UID:3977-1700697600-1700870399@mustardseedms.org
SUMMARY:Day Program Closed for Thanksgiving
DESCRIPTION:
URL:https://mustardseedms.org/event/day-program-closed-for-thanksgiving-5/
CATEGORIES:Day Program
END:VEVENT
BEGIN:VEVENT
DTSTART;VALUE=DATE:20230904
DTEND;VALUE=DATE:20230905
DTSTAMP:20260421T062440
CREATED:20221205T221536Z
LAST-MODIFIED:20221205T221536Z
UID:3976-1693785600-1693871999@mustardseedms.org
SUMMARY:Day Program Closed for Labor Day
DESCRIPTION:
URL:https://mustardseedms.org/event/day-program-closed-for-labor-day-5/
CATEGORIES:Day Program
END:VEVENT
BEGIN:VEVENT
DTSTART;VALUE=DATE:20230704
DTEND;VALUE=DATE:20230705
DTSTAMP:20260421T062440
CREATED:20221205T221536Z
LAST-MODIFIED:20221205T221536Z
UID:3975-1688428800-1688515199@mustardseedms.org
SUMMARY:Day Program Closed for 4th of July
DESCRIPTION:
URL:https://mustardseedms.org/event/day-program-closed-for-4th-of-july-5/
CATEGORIES:Day Program
END:VEVENT
BEGIN:VEVENT
DTSTART;VALUE=DATE:20230530
DTEND;VALUE=DATE:20230531
DTSTAMP:20260421T062440
CREATED:20221205T221536Z
LAST-MODIFIED:20221205T221536Z
UID:3974-1685404800-1685491199@mustardseedms.org
SUMMARY:Day Program Closed for Staff In-Service Day
DESCRIPTION:
URL:https://mustardseedms.org/event/day-program-closed-for-staff-in-service-day-5/
CATEGORIES:Day Program
END:VEVENT
BEGIN:VEVENT
DTSTART;VALUE=DATE:20230529
DTEND;VALUE=DATE:20230530
DTSTAMP:20260421T062440
CREATED:20221205T221535Z
LAST-MODIFIED:20221205T221535Z
UID:3973-1685318400-1685404799@mustardseedms.org
SUMMARY:Day Program Closed for Memorial Day
DESCRIPTION:
URL:https://mustardseedms.org/event/day-program-closed-for-memorial-day-5/
CATEGORIES:Day Program
END:VEVENT
BEGIN:VEVENT
DTSTART;VALUE=DATE:20230410
DTEND;VALUE=DATE:20230411
DTSTAMP:20260421T062440
CREATED:20221205T221535Z
LAST-MODIFIED:20221205T221535Z
UID:3972-1681084800-1681171199@mustardseedms.org
SUMMARY:Day Program Closed for Easter
DESCRIPTION:
URL:https://mustardseedms.org/event/day-program-closed-for-easter-10/
CATEGORIES:Day Program
END:VEVENT
BEGIN:VEVENT
DTSTART;VALUE=DATE:20230406
DTEND;VALUE=DATE:20230407
DTSTAMP:20260421T062440
CREATED:20221205T221534Z
LAST-MODIFIED:20221205T221534Z
UID:3971-1680739200-1680825599@mustardseedms.org
SUMMARY:Day Program Closed for Easter
DESCRIPTION:
URL:https://mustardseedms.org/event/day-program-closed-for-easter-9/
CATEGORIES:Day Program
END:VEVENT
BEGIN:VEVENT
DTSTART;VALUE=DATE:20221221
DTEND;VALUE=DATE:20230104
DTSTAMP:20260421T062440
CREATED:20220103T162223Z
LAST-MODIFIED:20220103T162223Z
UID:3159-1671580800-1672790399@mustardseedms.org
SUMMARY:Day Program Closed for Christmas & New Year's
DESCRIPTION:
URL:https://mustardseedms.org/event/day-program-closed-for-christmas-new-years-4/
CATEGORIES:Day Program
END:VEVENT
BEGIN:VEVENT
DTSTART;VALUE=DATE:20221124
DTEND;VALUE=DATE:20221126
DTSTAMP:20260421T062440
CREATED:20220103T162222Z
LAST-MODIFIED:20220103T162222Z
UID:3158-1669248000-1669420799@mustardseedms.org
SUMMARY:Day Program Closed for Thanksgiving
DESCRIPTION:
URL:https://mustardseedms.org/event/day-program-closed-for-thanksgiving-4/
CATEGORIES:Day Program
END:VEVENT
BEGIN:VEVENT
DTSTART;VALUE=DATE:20220905
DTEND;VALUE=DATE:20220906
DTSTAMP:20260421T062440
CREATED:20220103T162222Z
LAST-MODIFIED:20220103T162222Z
UID:3157-1662336000-1662422399@mustardseedms.org
SUMMARY:Day Program Closed for Labor Day
DESCRIPTION:
URL:https://mustardseedms.org/event/day-program-closed-for-labor-day-4/
CATEGORIES:Day Program
END:VEVENT
BEGIN:VEVENT
DTSTART;VALUE=DATE:20220704
DTEND;VALUE=DATE:20220705
DTSTAMP:20260421T062440
CREATED:20220103T162222Z
LAST-MODIFIED:20220103T162222Z
UID:3156-1656892800-1656979199@mustardseedms.org
SUMMARY:Day Program Closed for 4th of July
DESCRIPTION:
URL:https://mustardseedms.org/event/day-program-closed-for-4th-of-july-4/
CATEGORIES:Day Program
END:VEVENT
BEGIN:VEVENT
DTSTART;VALUE=DATE:20220531
DTEND;VALUE=DATE:20220601
DTSTAMP:20260421T062440
CREATED:20220103T162222Z
LAST-MODIFIED:20220103T162222Z
UID:3155-1653955200-1654041599@mustardseedms.org
SUMMARY:Day Program Closed for Staff In-Service Day
DESCRIPTION:
URL:https://mustardseedms.org/event/day-program-closed-for-staff-in-service-day-4/
CATEGORIES:Day Program
END:VEVENT
BEGIN:VEVENT
DTSTART;VALUE=DATE:20220530
DTEND;VALUE=DATE:20220531
DTSTAMP:20260421T062440
CREATED:20220103T162222Z
LAST-MODIFIED:20220103T162222Z
UID:3154-1653868800-1653955199@mustardseedms.org
SUMMARY:Day Program Closed for Memorial Day
DESCRIPTION:
URL:https://mustardseedms.org/event/day-program-closed-for-memorial-day-4/
CATEGORIES:Day Program
END:VEVENT
BEGIN:VEVENT
DTSTART;VALUE=DATE:20220418
DTEND;VALUE=DATE:20220419
DTSTAMP:20260421T062440
CREATED:20220103T162221Z
LAST-MODIFIED:20220103T162221Z
UID:3153-1650240000-1650326399@mustardseedms.org
SUMMARY:Day Program Closed for Easter
DESCRIPTION:
URL:https://mustardseedms.org/event/day-program-closed-for-easter-8/
CATEGORIES:Day Program
END:VEVENT
BEGIN:VEVENT
DTSTART;VALUE=DATE:20220415
DTEND;VALUE=DATE:20220416
DTSTAMP:20260421T062440
CREATED:20220103T162221Z
LAST-MODIFIED:20220103T162221Z
UID:3152-1649980800-1650067199@mustardseedms.org
SUMMARY:Day Program Closed for Easter
DESCRIPTION:
URL:https://mustardseedms.org/event/day-program-closed-for-easter-7/
CATEGORIES:Day Program
END:VEVENT
BEGIN:VEVENT
DTSTART;VALUE=DATE:20211220
DTEND;VALUE=DATE:20220101
DTSTAMP:20260421T062440
CREATED:20210122T165147Z
LAST-MODIFIED:20210122T165147Z
UID:2275-1639958400-1640995199@mustardseedms.org
SUMMARY:Day Program Closed for Christmas & New Year's
DESCRIPTION:
URL:https://mustardseedms.org/event/day-program-closed-for-christmas-new-years-3/
CATEGORIES:Day Program
END:VEVENT
BEGIN:VEVENT
DTSTART;VALUE=DATE:20211125
DTEND;VALUE=DATE:20211127
DTSTAMP:20260421T062440
CREATED:20210122T165147Z
LAST-MODIFIED:20210122T165147Z
UID:2274-1637798400-1637971199@mustardseedms.org
SUMMARY:Day Program Closed for Thanksgiving
DESCRIPTION:
URL:https://mustardseedms.org/event/day-program-closed-for-thanksgiving-3/
CATEGORIES:Day Program
END:VEVENT
BEGIN:VEVENT
DTSTART;VALUE=DATE:20210906
DTEND;VALUE=DATE:20210907
DTSTAMP:20260421T062440
CREATED:20210122T165147Z
LAST-MODIFIED:20210122T165147Z
UID:2273-1630886400-1630972799@mustardseedms.org
SUMMARY:Day Program Closed for Labor Day
DESCRIPTION:
URL:https://mustardseedms.org/event/day-program-closed-for-labor-day-3/
CATEGORIES:Day Program
END:VEVENT
BEGIN:VEVENT
DTSTART;VALUE=DATE:20210705
DTEND;VALUE=DATE:20210706
DTSTAMP:20260421T062440
CREATED:20210122T165146Z
LAST-MODIFIED:20210122T165146Z
UID:2272-1625443200-1625529599@mustardseedms.org
SUMMARY:Day Program Closed for 4th of July
DESCRIPTION:
URL:https://mustardseedms.org/event/day-program-closed-for-4th-of-july-3/
CATEGORIES:Day Program
END:VEVENT
BEGIN:VEVENT
DTSTART;VALUE=DATE:20210601
DTEND;VALUE=DATE:20210602
DTSTAMP:20260421T062440
CREATED:20210122T165146Z
LAST-MODIFIED:20210122T165146Z
UID:2271-1622505600-1622591999@mustardseedms.org
SUMMARY:Day Program Closed for Staff In-Service Day
DESCRIPTION:
URL:https://mustardseedms.org/event/day-program-closed-for-staff-in-service-day-3/
CATEGORIES:Day Program
END:VEVENT
BEGIN:VEVENT
DTSTART;VALUE=DATE:20210531
DTEND;VALUE=DATE:20210601
DTSTAMP:20260421T062440
CREATED:20210122T165146Z
LAST-MODIFIED:20210122T165146Z
UID:2270-1622419200-1622505599@mustardseedms.org
SUMMARY:Day Program Closed for Memorial Day
DESCRIPTION:
URL:https://mustardseedms.org/event/day-program-closed-for-memorial-day-3/
CATEGORIES:Day Program
END:VEVENT
END:VCALENDAR