BEGIN:VCALENDAR
VERSION:2.0
PRODID:-//The Mustard Seed - ECPv6.6.4.2//NONSGML v1.0//EN
CALSCALE:GREGORIAN
METHOD:PUBLISH
X-ORIGINAL-URL:https://mustardseedms.org
X-WR-CALDESC:Events for The Mustard Seed
REFRESH-INTERVAL;VALUE=DURATION:PT1H
X-Robots-Tag:noindex
X-PUBLISHED-TTL:PT1H
BEGIN:VTIMEZONE
TZID:UTC
BEGIN:STANDARD
TZOFFSETFROM:+0000
TZOFFSETTO:+0000
TZNAME:UTC
DTSTART:20190101T000000
END:STANDARD
END:VTIMEZONE
BEGIN:VEVENT
DTSTART;TZID=UTC:20191207T110000
DTEND;TZID=UTC:20191207T113000
DTSTAMP:20260420T172101
CREATED:20190614T220639Z
LAST-MODIFIED:20190820T213244Z
UID:580-1575716400-1575718200@mustardseedms.org
SUMMARY:Bells of Faith-The Mustard Seed's Annual Christmas Open House
DESCRIPTION:Performance in Activity Center at 11:00AM
URL:https://mustardseedms.org/event/bells-of-faith-the-mustard-seeds-annual-christmas-open-house/
CATEGORIES:Bells of Faith,Homepage Featured Event
END:VEVENT
END:VCALENDAR