BEGIN:VCALENDAR
VERSION:2.0
PRODID:-//The Mustard Seed - ECPv6.6.4.2//NONSGML v1.0//EN
CALSCALE:GREGORIAN
METHOD:PUBLISH
X-ORIGINAL-URL:https://mustardseedms.org
X-WR-CALDESC:Events for The Mustard Seed
REFRESH-INTERVAL;VALUE=DURATION:PT1H
X-Robots-Tag:noindex
X-PUBLISHED-TTL:PT1H
BEGIN:VTIMEZONE
TZID:UTC
BEGIN:STANDARD
TZOFFSETFROM:+0000
TZOFFSETTO:+0000
TZNAME:UTC
DTSTART:20190101T000000
END:STANDARD
END:VTIMEZONE
BEGIN:VEVENT
DTSTART;VALUE=DATE:20191208
DTEND;VALUE=DATE:20191209
DTSTAMP:20260420T171937
CREATED:20190131T175546Z
LAST-MODIFIED:20190820T213250Z
UID:216-1575763200-1575849599@mustardseedms.org
SUMMARY:Bells of Faith - First Independent Methodist
DESCRIPTION:Service Time: 10:00 a.m.
URL:https://mustardseedms.org/event/bells-of-faith-first-independent-methodist/
LOCATION:First Independent Methodist\, Madison\, MS\, United States
CATEGORIES:Bells of Faith,Homepage Featured Event
END:VEVENT
END:VCALENDAR