BEGIN:VCALENDAR
VERSION:2.0
PRODID:-//The Mustard Seed - ECPv6.6.4.2//NONSGML v1.0//EN
CALSCALE:GREGORIAN
METHOD:PUBLISH
X-ORIGINAL-URL:https://mustardseedms.org
X-WR-CALDESC:Events for The Mustard Seed
REFRESH-INTERVAL;VALUE=DURATION:PT1H
X-Robots-Tag:noindex
X-PUBLISHED-TTL:PT1H
BEGIN:VTIMEZONE
TZID:UTC
BEGIN:STANDARD
TZOFFSETFROM:+0000
TZOFFSETTO:+0000
TZNAME:UTC
DTSTART:20190101T000000
END:STANDARD
END:VTIMEZONE
BEGIN:VEVENT
DTSTART;TZID=UTC:20191211T110000
DTEND;TZID=UTC:20191211T123000
DTSTAMP:20260420T201056
CREATED:20190827T012834Z
LAST-MODIFIED:20190827T012834Z
UID:1158-1576062000-1576067400@mustardseedms.org
SUMMARY:Bells of Faith Performance at Hazelhurst United Methodist Church
DESCRIPTION:
URL:https://mustardseedms.org/event/bells-of-faith-performance-at-hazelhurst-united-methodist-church/
CATEGORIES:Bells of Faith,Homepage Featured Event
END:VEVENT
END:VCALENDAR