BEGIN:VCALENDAR
VERSION:2.0
PRODID:-//The Mustard Seed - ECPv6.6.4.2//NONSGML v1.0//EN
CALSCALE:GREGORIAN
METHOD:PUBLISH
X-WR-CALNAME:The Mustard Seed
X-ORIGINAL-URL:https://mustardseedms.org
X-WR-CALDESC:Events for The Mustard Seed
REFRESH-INTERVAL;VALUE=DURATION:PT1H
X-Robots-Tag:noindex
X-PUBLISHED-TTL:PT1H
BEGIN:VTIMEZONE
TZID:UTC
BEGIN:STANDARD
TZOFFSETFROM:+0000
TZOFFSETTO:+0000
TZNAME:UTC
DTSTART:20190101T000000
END:STANDARD
END:VTIMEZONE
BEGIN:VEVENT
DTSTART;TZID=UTC:20191215T103000
DTEND;TZID=UTC:20191215T113000
DTSTAMP:20260420T230329
CREATED:20190614T221239Z
LAST-MODIFIED:20190820T213304Z
UID:583-1576405800-1576409400@mustardseedms.org
SUMMARY:Bells of Faith-Damascus Baptist Church
DESCRIPTION:Service at 10:30AM
URL:https://mustardseedms.org/event/bells-of-faith-damascus-baptist-church/
LOCATION:Damascus Baptist Church\, 3964 Hwy 22\, Flora\, MS\, 39201\, United States
CATEGORIES:Bells of Faith,Homepage Featured Event
END:VEVENT
END:VCALENDAR