BEGIN:VCALENDAR
VERSION:2.0
PRODID:-//The Mustard Seed - ECPv6.6.4.2//NONSGML v1.0//EN
CALSCALE:GREGORIAN
METHOD:PUBLISH
X-WR-CALNAME:The Mustard Seed
X-ORIGINAL-URL:https://mustardseedms.org
X-WR-CALDESC:Events for The Mustard Seed
REFRESH-INTERVAL;VALUE=DURATION:PT1H
X-Robots-Tag:noindex
X-PUBLISHED-TTL:PT1H
BEGIN:VTIMEZONE
TZID:America/Chicago
BEGIN:DAYLIGHT
TZOFFSETFROM:-0600
TZOFFSETTO:-0500
TZNAME:CDT
DTSTART:20230312T080000
END:DAYLIGHT
BEGIN:STANDARD
TZOFFSETFROM:-0500
TZOFFSETTO:-0600
TZNAME:CST
DTSTART:20231105T070000
END:STANDARD
END:VTIMEZONE
BEGIN:VEVENT
DTSTART;TZID=America/Chicago:20230630T130000
DTEND;TZID=America/Chicago:20230630T150000
DTSTAMP:20260421T064557
CREATED:20230601T151324Z
LAST-MODIFIED:20230601T151324Z
UID:4429-1688130000-1688137200@mustardseedms.org
SUMMARY:Movies
DESCRIPTION:(Private Event)
URL:https://mustardseedms.org/event/movies-10/
CATEGORIES:Activity Center
END:VEVENT
BEGIN:VEVENT
DTSTART;TZID=America/Chicago:20230630T110000
DTEND;TZID=America/Chicago:20230630T130000
DTSTAMP:20260421T064557
CREATED:20230601T151323Z
LAST-MODIFIED:20230601T151323Z
UID:4428-1688122800-1688130000@mustardseedms.org
SUMMARY:Lunch (Group Choice)
DESCRIPTION:(Private Event)
URL:https://mustardseedms.org/event/lunch-group-choice-41/
CATEGORIES:Activity Center
END:VEVENT
BEGIN:VEVENT
DTSTART;TZID=America/Chicago:20230630T093000
DTEND;TZID=America/Chicago:20230630T110000
DTSTAMP:20260421T064557
CREATED:20230601T151322Z
LAST-MODIFIED:20230601T151322Z
UID:4427-1688117400-1688122800@mustardseedms.org
SUMMARY:Pictionary
DESCRIPTION:(Private Event)
URL:https://mustardseedms.org/event/pictionary/
CATEGORIES:Activity Center
END:VEVENT
BEGIN:VEVENT
DTSTART;TZID=America/Chicago:20230629T120000
DTEND;TZID=America/Chicago:20230629T130000
DTSTAMP:20260421T064557
CREATED:20230601T151340Z
LAST-MODIFIED:20230601T151340Z
UID:4449-1688040000-1688043600@mustardseedms.org
SUMMARY:Waffle Lunch
DESCRIPTION:(Private Event)
URL:https://mustardseedms.org/event/waffle-lunch-2/
CATEGORIES:Activity Center
END:VEVENT
BEGIN:VEVENT
DTSTART;TZID=America/Chicago:20230629T110000
DTEND;TZID=America/Chicago:20230629T120000
DTSTAMP:20260421T064557
CREATED:20230601T151336Z
LAST-MODIFIED:20230601T151336Z
UID:4443-1688036400-1688040000@mustardseedms.org
SUMMARY:Music with Emily
DESCRIPTION:(Private Event)
URL:https://mustardseedms.org/event/music-with-emily-46/
CATEGORIES:Activity Center
END:VEVENT
BEGIN:VEVENT
DTSTART;VALUE=DATE:20230629
DTEND;VALUE=DATE:20230630
DTSTAMP:20260421T064557
CREATED:20230601T151317Z
LAST-MODIFIED:20230601T151317Z
UID:4421-1687996800-1688083199@mustardseedms.org
SUMMARY:National Waffle Iron Day
DESCRIPTION:(Private Event)
URL:https://mustardseedms.org/event/national-waffle-iron-day/
CATEGORIES:Activity Center
END:VEVENT
BEGIN:VEVENT
DTSTART;TZID=America/Chicago:20230628T133000
DTEND;TZID=America/Chicago:20230628T143000
DTSTAMP:20260421T064557
CREATED:20230601T151328Z
LAST-MODIFIED:20230601T151328Z
UID:4434-1687959000-1687962600@mustardseedms.org
SUMMARY:Reading with Peg
DESCRIPTION:(Private Event)
URL:https://mustardseedms.org/event/reading-with-peg-167/
CATEGORIES:Activity Center
END:VEVENT
BEGIN:VEVENT
DTSTART;TZID=America/Chicago:20230628T090000
DTEND;TZID=America/Chicago:20230628T093000
DTSTAMP:20260421T064557
CREATED:20230601T151332Z
LAST-MODIFIED:20230601T151332Z
UID:4438-1687942800-1687944600@mustardseedms.org
SUMMARY:Devotion with Alana
DESCRIPTION:(Private Event)
URL:https://mustardseedms.org/event/devotion-with-alana-5/
CATEGORIES:Activity Center
END:VEVENT
BEGIN:VEVENT
DTSTART;VALUE=DATE:20230627
DTEND;VALUE=DATE:20230628
DTSTAMP:20260421T064557
CREATED:20230601T151316Z
LAST-MODIFIED:20230601T151316Z
UID:4420-1687824000-1687910399@mustardseedms.org
SUMMARY:National Bingo Day
DESCRIPTION:(Private Event)
URL:https://mustardseedms.org/event/national-bingo-day/
CATEGORIES:Activity Center
END:VEVENT
BEGIN:VEVENT
DTSTART;TZID=America/Chicago:20230623T110000
DTEND;TZID=America/Chicago:20230623T150000
DTSTAMP:20260421T064557
CREATED:20230601T151321Z
LAST-MODIFIED:20230601T151321Z
UID:4426-1687518000-1687532400@mustardseedms.org
SUMMARY:Two Mississippi Museums
DESCRIPTION:(Private Event) Today we’ll have lunch at the Two Mississippi Museums. Afterwards\, you’ll get to choose if you’d rather visit the Museum of Mississippi History or the Mississippi Civil Rights Museum
URL:https://mustardseedms.org/event/two-mississippi-museums/
CATEGORIES:Activity Center
END:VEVENT
BEGIN:VEVENT
DTSTART;TZID=America/Chicago:20230622T110000
DTEND;TZID=America/Chicago:20230622T120000
DTSTAMP:20260421T064557
CREATED:20230601T151334Z
LAST-MODIFIED:20230601T151334Z
UID:4442-1687431600-1687435200@mustardseedms.org
SUMMARY:Music with Emily
DESCRIPTION:(Private Event)
URL:https://mustardseedms.org/event/music-with-emily-45/
CATEGORIES:Activity Center
END:VEVENT
BEGIN:VEVENT
DTSTART;TZID=America/Chicago:20230622T090000
DTEND;TZID=America/Chicago:20230622T100000
DTSTAMP:20260421T064557
CREATED:20230601T151338Z
LAST-MODIFIED:20230601T151338Z
UID:4447-1687424400-1687428000@mustardseedms.org
SUMMARY:Exercise with Hinds Nursing
DESCRIPTION:(Private Event)
URL:https://mustardseedms.org/event/exercise-with-hinds-nursing-2/
CATEGORIES:Activity Center
END:VEVENT
BEGIN:VEVENT
DTSTART;TZID=America/Chicago:20230621T143000
DTEND;TZID=America/Chicago:20230621T150000
DTSTAMP:20260421T064557
CREATED:20230601T151340Z
LAST-MODIFIED:20230601T151340Z
UID:4448-1687357800-1687359600@mustardseedms.org
SUMMARY:Smoothie Snack
DESCRIPTION:(Private Event)
URL:https://mustardseedms.org/event/smoothie-snack-2/
CATEGORIES:Activity Center
END:VEVENT
BEGIN:VEVENT
DTSTART;TZID=America/Chicago:20230621T133000
DTEND;TZID=America/Chicago:20230621T143000
DTSTAMP:20260421T064557
CREATED:20230601T151327Z
LAST-MODIFIED:20230601T151327Z
UID:4433-1687354200-1687357800@mustardseedms.org
SUMMARY:Reading with Peg
DESCRIPTION:(Private Event)
URL:https://mustardseedms.org/event/reading-with-peg-166/
CATEGORIES:Activity Center
END:VEVENT
BEGIN:VEVENT
DTSTART;TZID=America/Chicago:20230621T100000
DTEND;TZID=America/Chicago:20230621T110000
DTSTAMP:20260421T064557
CREATED:20230601T151337Z
LAST-MODIFIED:20230601T151337Z
UID:4446-1687341600-1687345200@mustardseedms.org
SUMMARY:Hinds Nursing
DESCRIPTION:(Private Event)
URL:https://mustardseedms.org/event/hinds-nursing/
CATEGORIES:Activity Center
END:VEVENT
BEGIN:VEVENT
DTSTART;TZID=America/Chicago:20230621T090000
DTEND;TZID=America/Chicago:20230621T093000
DTSTAMP:20260421T064557
CREATED:20230601T151330Z
LAST-MODIFIED:20230601T151330Z
UID:4437-1687338000-1687339800@mustardseedms.org
SUMMARY:Devotion with Jayme
DESCRIPTION:(Private Event)
URL:https://mustardseedms.org/event/devotion-with-jayme-5/
CATEGORIES:Activity Center
END:VEVENT
BEGIN:VEVENT
DTSTART;VALUE=DATE:20230621
DTEND;VALUE=DATE:20230622
DTSTAMP:20260421T064557
CREATED:20230601T151316Z
LAST-MODIFIED:20230601T151316Z
UID:4419-1687305600-1687391999@mustardseedms.org
SUMMARY:National Smoothie Day
DESCRIPTION:(Private Event)
URL:https://mustardseedms.org/event/national-smoothie-day-2/
CATEGORIES:Activity Center
END:VEVENT
BEGIN:VEVENT
DTSTART;TZID=America/Chicago:20230620T090000
DTEND;TZID=America/Chicago:20230620T100000
DTSTAMP:20260421T064557
CREATED:20230601T151337Z
LAST-MODIFIED:20230601T151337Z
UID:4445-1687251600-1687255200@mustardseedms.org
SUMMARY:Exercise with Hinds Nursing
DESCRIPTION:(Private Event)
URL:https://mustardseedms.org/event/exercise-with-hinds-nursing/
CATEGORIES:Activity Center
END:VEVENT
BEGIN:VEVENT
DTSTART;TZID=America/Chicago:20230619T120000
DTEND;TZID=America/Chicago:20230619T130000
DTSTAMP:20260421T064557
CREATED:20230601T151336Z
LAST-MODIFIED:20230601T151336Z
UID:4444-1687176000-1687179600@mustardseedms.org
SUMMARY:Lasagna Lunch
DESCRIPTION:(Private Event)
URL:https://mustardseedms.org/event/lasagna-lunch-2/
CATEGORIES:Activity Center
END:VEVENT
BEGIN:VEVENT
DTSTART;VALUE=DATE:20230619
DTEND;VALUE=DATE:20230620
DTSTAMP:20260421T064557
CREATED:20230601T151315Z
LAST-MODIFIED:20230601T151315Z
UID:4418-1687132800-1687219199@mustardseedms.org
SUMMARY:Garfield the Cat Day
DESCRIPTION:(Private Event)
URL:https://mustardseedms.org/event/garfield-the-cat-day/
CATEGORIES:Activity Center
END:VEVENT
BEGIN:VEVENT
DTSTART;VALUE=DATE:20230618
DTEND;VALUE=DATE:20230619
DTSTAMP:20260421T064557
CREATED:20230717T211416Z
LAST-MODIFIED:20230717T211416Z
UID:4564-1687046400-1687132799@mustardseedms.org
SUMMARY:Happy Birthday\, Wayne Nunnelee!
DESCRIPTION:
URL:https://mustardseedms.org/event/happy-birthday-wayne-nunnelee/
CATEGORIES:Birthdays
END:VEVENT
BEGIN:VEVENT
DTSTART;VALUE=DATE:20230618
DTEND;VALUE=DATE:20230619
DTSTAMP:20260421T064557
CREATED:20230601T151306Z
LAST-MODIFIED:20230601T151306Z
UID:4417-1687046400-1687132799@mustardseedms.org
SUMMARY:Father's Day
DESCRIPTION:(Private Event)
URL:https://mustardseedms.org/event/fathers-day-2/
CATEGORIES:Activity Center
END:VEVENT
BEGIN:VEVENT
DTSTART;TZID=America/Chicago:20230616T093000
DTEND;TZID=America/Chicago:20230616T153000
DTSTAMP:20260421T064557
CREATED:20230601T151320Z
LAST-MODIFIED:20230601T151320Z
UID:4425-1686907800-1686929400@mustardseedms.org
SUMMARY:Day at Jim Agnew's Lakehouse
DESCRIPTION:(Private Event) Come ready for a yummy lunch\, fishing\, fun and relaxation!
URL:https://mustardseedms.org/event/day-at-jim-agnews-lakehouse-3/
CATEGORIES:Activity Center
END:VEVENT
BEGIN:VEVENT
DTSTART;TZID=America/Chicago:20230615T110000
DTEND;TZID=America/Chicago:20230615T120000
DTSTAMP:20260421T064557
CREATED:20230601T151333Z
LAST-MODIFIED:20230601T151333Z
UID:4441-1686826800-1686830400@mustardseedms.org
SUMMARY:Music with Emily
DESCRIPTION:(Private Event)
URL:https://mustardseedms.org/event/music-with-emily-44/
CATEGORIES:Activity Center
END:VEVENT
BEGIN:VEVENT
DTSTART;VALUE=DATE:20230615
DTEND;VALUE=DATE:20230616
DTSTAMP:20260421T064557
CREATED:20230601T151305Z
LAST-MODIFIED:20230601T151305Z
UID:4416-1686787200-1686873599@mustardseedms.org
SUMMARY:Nature Photography Day
DESCRIPTION:(Private Event)
URL:https://mustardseedms.org/event/nature-photography-day/
CATEGORIES:Activity Center
END:VEVENT
BEGIN:VEVENT
DTSTART;TZID=America/Chicago:20230614T150000
DTEND;TZID=America/Chicago:20230614T160000
DTSTAMP:20260421T064557
CREATED:20230601T151324Z
LAST-MODIFIED:20230601T151324Z
UID:4430-1686754800-1686758400@mustardseedms.org
SUMMARY:Liberty Baptist Youth
DESCRIPTION:(Private Event)
URL:https://mustardseedms.org/event/liberty-baptist-youth/
CATEGORIES:Activity Center
END:VEVENT
BEGIN:VEVENT
DTSTART;TZID=America/Chicago:20230614T133000
DTEND;TZID=America/Chicago:20230614T143000
DTSTAMP:20260421T064557
CREATED:20230601T151326Z
LAST-MODIFIED:20230601T151326Z
UID:4432-1686749400-1686753000@mustardseedms.org
SUMMARY:Reading with Peg
DESCRIPTION:(Private Event)
URL:https://mustardseedms.org/event/reading-with-peg-165/
CATEGORIES:Activity Center
END:VEVENT
BEGIN:VEVENT
DTSTART;TZID=America/Chicago:20230614T090000
DTEND;TZID=America/Chicago:20230614T093000
DTSTAMP:20260421T064557
CREATED:20230601T151329Z
LAST-MODIFIED:20230601T151329Z
UID:4436-1686733200-1686735000@mustardseedms.org
SUMMARY:Devotion with Blake
DESCRIPTION:(Private Event)
URL:https://mustardseedms.org/event/devotion-with-blake-6/
CATEGORIES:Activity Center
END:VEVENT
BEGIN:VEVENT
DTSTART;TZID=America/Chicago:20230613T113000
DTEND;TZID=America/Chicago:20230613T123000
DTSTAMP:20260421T064557
CREATED:20230601T151317Z
LAST-MODIFIED:20230601T151317Z
UID:4422-1686655800-1686659400@mustardseedms.org
SUMMARY:Lunch Provided by Flowood Rotary
DESCRIPTION:(Private Event)
URL:https://mustardseedms.org/event/lunch-provided-by-flowood-rotary/
CATEGORIES:Activity Center
END:VEVENT
BEGIN:VEVENT
DTSTART;VALUE=DATE:20230613
DTEND;VALUE=DATE:20230614
DTSTAMP:20260421T064557
CREATED:20230328T214438Z
LAST-MODIFIED:20230328T214438Z
UID:4272-1686614400-1686700799@mustardseedms.org
SUMMARY:Happy Birthday\, Kate Dickens!
DESCRIPTION:
URL:https://mustardseedms.org/event/happy-birthday-kate-dickens/
CATEGORIES:Birthdays
END:VEVENT
END:VCALENDAR