BEGIN:VCALENDAR
VERSION:2.0
PRODID:-//The Mustard Seed - ECPv6.6.4.2//NONSGML v1.0//EN
CALSCALE:GREGORIAN
METHOD:PUBLISH
X-WR-CALNAME:The Mustard Seed
X-ORIGINAL-URL:https://mustardseedms.org
X-WR-CALDESC:Events for The Mustard Seed
REFRESH-INTERVAL;VALUE=DURATION:PT1H
X-Robots-Tag:noindex
X-PUBLISHED-TTL:PT1H
BEGIN:VTIMEZONE
TZID:America/Chicago
BEGIN:DAYLIGHT
TZOFFSETFROM:-0600
TZOFFSETTO:-0500
TZNAME:CDT
DTSTART:20200308T080000
END:DAYLIGHT
BEGIN:STANDARD
TZOFFSETFROM:-0500
TZOFFSETTO:-0600
TZNAME:CST
DTSTART:20201101T070000
END:STANDARD
END:VTIMEZONE
BEGIN:VEVENT
DTSTART;VALUE=DATE:20200901
DTEND;VALUE=DATE:20200902
DTSTAMP:20260423T171307
CREATED:20200729T135803Z
LAST-MODIFIED:20200729T140544Z
UID:1910-1598918400-1599004799@mustardseedms.org
SUMMARY:Fall items debut in our gift shop
DESCRIPTION:All fall décor items hit our gift shop floor for the first time today including our popular pumpkins. Doors open at 9am.
URL:https://mustardseedms.org/event/fall-items-debut-in-our-gift-shop/
CATEGORIES:Events,Gift Shop,Homepage Featured Event
END:VEVENT
BEGIN:VEVENT
DTSTART;VALUE=DATE:20200907
DTEND;VALUE=DATE:20200908
DTSTAMP:20260423T171307
CREATED:20200304T171547Z
LAST-MODIFIED:20200304T171547Z
UID:1794-1599436800-1599523199@mustardseedms.org
SUMMARY:Day Program Closed for Labor Day
DESCRIPTION:
URL:https://mustardseedms.org/event/day-program-closed-for-labor-day-2/
CATEGORIES:Day Program
END:VEVENT
BEGIN:VEVENT
DTSTART;VALUE=DATE:20200907
DTEND;VALUE=DATE:20200908
DTSTAMP:20260423T171307
CREATED:20200304T171550Z
LAST-MODIFIED:20200304T171550Z
UID:1802-1599436800-1599523199@mustardseedms.org
SUMMARY:Gift Shop and Offices Closed
DESCRIPTION:
URL:https://mustardseedms.org/event/gift-shop-and-offices-closed-14/
CATEGORIES:Gift Shop
END:VEVENT
BEGIN:VEVENT
DTSTART;TZID=America/Chicago:20200912T100000
DTEND;TZID=America/Chicago:20200912T120000
DTSTAMP:20260423T171307
CREATED:20200910T150956Z
LAST-MODIFIED:20200910T150957Z
UID:1966-1599904800-1599912000@mustardseedms.org
SUMMARY:Meet Miss Mississippi at The Mustard Seed Gift Shop
DESCRIPTION:The Mustard Seed gift shop will be open from 10am-3pm on Saturday\, September 12th. Don’t forget your mask!
URL:https://mustardseedms.org/event/meet-miss-mississippi-at-the-mustard-seed-gift-shop/
CATEGORIES:Events,Gift Shop,Homepage Featured Event
END:VEVENT
BEGIN:VEVENT
DTSTART;TZID=America/Chicago:20200912T100000
DTEND;TZID=America/Chicago:20200912T150000
DTSTAMP:20260423T171307
CREATED:20200910T151336Z
LAST-MODIFIED:20200910T151337Z
UID:1969-1599904800-1599922800@mustardseedms.org
SUMMARY:Saturday Shopping hours at The Mustard Seed Gift Shop
DESCRIPTION:Shop the Mustard Seed gift shop the second Saturday of each month from 10AM-3PM. \nRegular shopping hours at The Mustard Seed gift shop include Monday-Friday\, 9AM-4PM.
URL:https://mustardseedms.org/event/saturday-shopping-hours-at-the-mustard-seed-gift-shop/
CATEGORIES:Events,Gift Shop,Homepage Featured Event
END:VEVENT
BEGIN:VEVENT
DTSTART;VALUE=DATE:20201001
DTEND;VALUE=DATE:20201002
DTSTAMP:20260423T171307
CREATED:20201006T153040Z
LAST-MODIFIED:20201006T153040Z
UID:2011-1601510400-1601596799@mustardseedms.org
SUMMARY:Happy National Homemade Cookie Day!
DESCRIPTION:
URL:https://mustardseedms.org/event/happy-national-homemade-cookie-day/
CATEGORIES:Activity Center
END:VEVENT
BEGIN:VEVENT
DTSTART;VALUE=DATE:20201002
DTEND;VALUE=DATE:20201003
DTSTAMP:20260423T171307
CREATED:20201006T153040Z
LAST-MODIFIED:20201006T153040Z
UID:2013-1601596800-1601683199@mustardseedms.org
SUMMARY:World Smile Day!
DESCRIPTION:
URL:https://mustardseedms.org/event/world-smile-day/
CATEGORIES:Activity Center
END:VEVENT
BEGIN:VEVENT
DTSTART;TZID=America/Chicago:20201002T093000
DTEND;TZID=America/Chicago:20201002T153000
DTSTAMP:20260423T171307
CREATED:20201006T153040Z
LAST-MODIFIED:20201006T153040Z
UID:2012-1601631000-1601652600@mustardseedms.org
SUMMARY:Carnival Day
DESCRIPTION:
URL:https://mustardseedms.org/event/carnival-day/
CATEGORIES:Activity Center
END:VEVENT
BEGIN:VEVENT
DTSTART;TZID=America/Chicago:20201003T100000
DTEND;TZID=America/Chicago:20201003T160000
DTSTAMP:20260423T171307
CREATED:20200917T190037Z
LAST-MODIFIED:20200917T190038Z
UID:1982-1601719200-1601740800@mustardseedms.org
SUMMARY:Mustard Seed Pop-Up Shop in Rayville\, LA
DESCRIPTION:For more information email kaitlin@mustardseedms.org
URL:https://mustardseedms.org/event/mustard-seed-pop-up-shop-in-rayville-la/
CATEGORIES:Events,Gift Shop,Homepage Featured Event
END:VEVENT
BEGIN:VEVENT
DTSTART;VALUE=DATE:20201005
DTEND;VALUE=DATE:20201006
DTSTAMP:20260423T171307
CREATED:20201006T153042Z
LAST-MODIFIED:20201006T153042Z
UID:2015-1601856000-1601942399@mustardseedms.org
SUMMARY:Do Something Nice Day!
DESCRIPTION:
URL:https://mustardseedms.org/event/do-something-nice-day/
CATEGORIES:Activity Center
END:VEVENT
BEGIN:VEVENT
DTSTART;TZID=America/Chicago:20201005T093000
DTEND;TZID=America/Chicago:20201005T103000
DTSTAMP:20260423T171307
CREATED:20201006T153041Z
LAST-MODIFIED:20201006T153041Z
UID:2014-1601890200-1601893800@mustardseedms.org
SUMMARY:Visit with Therapy Dog Archie
DESCRIPTION:
URL:https://mustardseedms.org/event/visit-with-therapy-dog-archie/
CATEGORIES:Activity Center
END:VEVENT
BEGIN:VEVENT
DTSTART;VALUE=DATE:20201006
DTEND;VALUE=DATE:20201007
DTSTAMP:20260423T171307
CREATED:20201006T153042Z
LAST-MODIFIED:20201006T153042Z
UID:2016-1601942400-1602028799@mustardseedms.org
SUMMARY:Happy Mad Hatter Day!
DESCRIPTION:
URL:https://mustardseedms.org/event/happy-mad-hatter-day/
CATEGORIES:Activity Center
END:VEVENT
BEGIN:VEVENT
DTSTART;TZID=America/Chicago:20201006T143000
DTEND;TZID=America/Chicago:20201006T153000
DTSTAMP:20260423T171307
CREATED:20201006T153042Z
LAST-MODIFIED:20201006T153042Z
UID:2017-1601994600-1601998200@mustardseedms.org
SUMMARY:Mad Hatter Tea Party
DESCRIPTION:
URL:https://mustardseedms.org/event/mad-hatter-tea-party/
CATEGORIES:Activity Center
END:VEVENT
BEGIN:VEVENT
DTSTART;TZID=America/Chicago:20201007T093000
DTEND;TZID=America/Chicago:20201007T103000
DTSTAMP:20260423T171307
CREATED:20201006T153042Z
LAST-MODIFIED:20201006T153042Z
UID:2018-1602063000-1602066600@mustardseedms.org
SUMMARY:Movement with Courtney
DESCRIPTION:
URL:https://mustardseedms.org/event/movement-with-courtney-6/
CATEGORIES:Activity Center
END:VEVENT
BEGIN:VEVENT
DTSTART;TZID=America/Chicago:20201007T133000
DTEND;TZID=America/Chicago:20201007T143000
DTSTAMP:20260423T171307
CREATED:20201006T153043Z
LAST-MODIFIED:20201006T153043Z
UID:2019-1602077400-1602081000@mustardseedms.org
SUMMARY:Reading with Peg
DESCRIPTION:
URL:https://mustardseedms.org/event/reading-with-peg-52/
CATEGORIES:Activity Center
END:VEVENT
BEGIN:VEVENT
DTSTART;TZID=America/Chicago:20201007T143000
DTEND;TZID=America/Chicago:20201007T143000
DTSTAMP:20260423T171307
CREATED:20201006T153044Z
LAST-MODIFIED:20201006T153044Z
UID:2020-1602081000-1602081000@mustardseedms.org
SUMMARY:Birthday Bash
DESCRIPTION:
URL:https://mustardseedms.org/event/birthday-bash-10/
CATEGORIES:Activity Center
END:VEVENT
BEGIN:VEVENT
DTSTART;TZID=America/Chicago:20201009T093000
DTEND;TZID=America/Chicago:20201009T143000
DTSTAMP:20260423T171307
CREATED:20201006T153044Z
LAST-MODIFIED:20201006T153044Z
UID:2021-1602235800-1602253800@mustardseedms.org
SUMMARY:Family Game Night
DESCRIPTION:Bring your thinking caps\, as we compete in “Who Wants to be a Millionaire?” & “Wheel of Fortune”! We will also have a MEGA Salad Bar for Lunch!!!
URL:https://mustardseedms.org/event/family-game-night/
CATEGORIES:Activity Center
END:VEVENT
BEGIN:VEVENT
DTSTART;TZID=America/Chicago:20201009T150000
DTEND;TZID=America/Chicago:20201009T153000
DTSTAMP:20260423T171307
CREATED:20201006T153044Z
LAST-MODIFIED:20201006T153044Z
UID:2022-1602255600-1602257400@mustardseedms.org
SUMMARY:Drive-By Parade on Campus
DESCRIPTION:Bring your best smiles and wear something fun to say hello to all of our friends that will drive through campus.
URL:https://mustardseedms.org/event/drive-by-parade-on-campus/
CATEGORIES:Activity Center
END:VEVENT
BEGIN:VEVENT
DTSTART;TZID=America/Chicago:20201010T100000
DTEND;TZID=America/Chicago:20201010T150000
DTSTAMP:20260423T171307
CREATED:20200910T151505Z
LAST-MODIFIED:20200910T152726Z
UID:1970-1602324000-1602342000@mustardseedms.org
SUMMARY:Saturday Shopping hours at The Mustard Seed Gift Shop
DESCRIPTION:Shop the Mustard Seed gift shop the second Saturday of each month from 10AM-3PM. \nRegular shopping hours at The Mustard Seed gift shop include Monday-Friday\, 9AM-4PM.
URL:https://mustardseedms.org/event/saturday-shopping-hours-at-the-mustard-seed-gift-shop-2/
CATEGORIES:Events,Gift Shop,Homepage Featured Event
END:VEVENT
BEGIN:VEVENT
DTSTART;TZID=America/Chicago:20201012T093000
DTEND;TZID=America/Chicago:20201012T103000
DTSTAMP:20260423T171307
CREATED:20201006T153044Z
LAST-MODIFIED:20201006T153044Z
UID:2023-1602495000-1602498600@mustardseedms.org
SUMMARY:Visit with Therapy Dog Archie
DESCRIPTION:
URL:https://mustardseedms.org/event/visit-with-therapy-dog-archie-2/
CATEGORIES:Activity Center
END:VEVENT
BEGIN:VEVENT
DTSTART;VALUE=DATE:20201013
DTEND;VALUE=DATE:20201014
DTSTAMP:20260423T171307
CREATED:20201006T153045Z
LAST-MODIFIED:20201006T153045Z
UID:2024-1602547200-1602633599@mustardseedms.org
SUMMARY:National M&M's Day!
DESCRIPTION:
URL:https://mustardseedms.org/event/national-mms-day/
CATEGORIES:Activity Center
END:VEVENT
BEGIN:VEVENT
DTSTART;TZID=America/Chicago:20201013T143000
DTEND;TZID=America/Chicago:20201013T150000
DTSTAMP:20260423T171307
CREATED:20201006T153045Z
LAST-MODIFIED:20201006T153045Z
UID:2025-1602599400-1602601200@mustardseedms.org
SUMMARY:Trail Mix Snack
DESCRIPTION:
URL:https://mustardseedms.org/event/trail-mix-snack/
CATEGORIES:Activity Center
END:VEVENT
BEGIN:VEVENT
DTSTART;TZID=America/Chicago:20201014T133000
DTEND;TZID=America/Chicago:20201014T143000
DTSTAMP:20260423T171307
CREATED:20201006T153046Z
LAST-MODIFIED:20201006T153046Z
UID:2026-1602682200-1602685800@mustardseedms.org
SUMMARY:Reading with Peg
DESCRIPTION:
URL:https://mustardseedms.org/event/reading-with-peg-53/
CATEGORIES:Activity Center
END:VEVENT
BEGIN:VEVENT
DTSTART;VALUE=DATE:20201015
DTEND;VALUE=DATE:20201016
DTSTAMP:20260423T171307
CREATED:20201006T153046Z
LAST-MODIFIED:20201006T153046Z
UID:2028-1602720000-1602806399@mustardseedms.org
SUMMARY:Gloal Handwashing Day
DESCRIPTION:
URL:https://mustardseedms.org/event/gloal-handwashing-day/
CATEGORIES:Activity Center
END:VEVENT
BEGIN:VEVENT
DTSTART;TZID=America/Chicago:20201015T133000
DTEND;TZID=America/Chicago:20201015T143000
DTSTAMP:20260423T171307
CREATED:20201006T153046Z
LAST-MODIFIED:20201006T153046Z
UID:2027-1602768600-1602772200@mustardseedms.org
SUMMARY:Dawgone Fun Therapy Dogs
DESCRIPTION:
URL:https://mustardseedms.org/event/dawgone-fun-therapy-dogs/
CATEGORIES:Activity Center
END:VEVENT
BEGIN:VEVENT
DTSTART;TZID=America/Chicago:20201016T093000
DTEND;TZID=America/Chicago:20201016T153000
DTSTAMP:20260423T171307
CREATED:20201006T153047Z
LAST-MODIFIED:20201006T153047Z
UID:2029-1602840600-1602862200@mustardseedms.org
SUMMARY:Seedster-Lympics\, Lunch from Taste of Detroit\, Movie at the Seed (with On-Campus Concession Stand)
DESCRIPTION:
URL:https://mustardseedms.org/event/seedster-lympics-lunch-from-taste-of-detroit-movie-at-the-seed-with-on-campus-concession-stand/
CATEGORIES:Activity Center
END:VEVENT
BEGIN:VEVENT
DTSTART;TZID=America/Chicago:20201016T093000
DTEND;TZID=America/Chicago:20201016T163000
DTSTAMP:20260423T171307
CREATED:20200729T142042Z
LAST-MODIFIED:20200910T150501Z
UID:1922-1602840600-1602865800@mustardseedms.org
SUMMARY:Pop-Up Shop at Green Oak Florist-Township
DESCRIPTION:Stop by Green Oak Florist Township between 9:30AM-4:30PM to purchase beautiful Mustard Seed vases filled with arrangements from Green Oak Florist!
URL:https://mustardseedms.org/event/pop-up-shop-at-green-oak-florist-township/
LOCATION:Green Oak Florist at Township
CATEGORIES:Events,Gift Shop,Homepage Featured Event
END:VEVENT
BEGIN:VEVENT
DTSTART;TZID=America/Chicago:20201019T093000
DTEND;TZID=America/Chicago:20201019T103000
DTSTAMP:20260423T171307
CREATED:20201006T153048Z
LAST-MODIFIED:20201006T153048Z
UID:2030-1603099800-1603103400@mustardseedms.org
SUMMARY:Visit with Therapy Dog Archie
DESCRIPTION:
URL:https://mustardseedms.org/event/visit-with-therapy-dog-archie-3/
CATEGORIES:Activity Center
END:VEVENT
BEGIN:VEVENT
DTSTART;VALUE=DATE:20201020
DTEND;VALUE=DATE:20201021
DTSTAMP:20260423T171307
CREATED:20201006T153048Z
LAST-MODIFIED:20201006T153048Z
UID:2031-1603152000-1603238399@mustardseedms.org
SUMMARY:International Sloth Day
DESCRIPTION:
URL:https://mustardseedms.org/event/international-sloth-day/
CATEGORIES:Activity Center
END:VEVENT
BEGIN:VEVENT
DTSTART;TZID=America/Chicago:20201021T133000
DTEND;TZID=America/Chicago:20201021T143000
DTSTAMP:20260423T171307
CREATED:20201006T153048Z
LAST-MODIFIED:20201006T153048Z
UID:2032-1603287000-1603290600@mustardseedms.org
SUMMARY:Reading with Peg
DESCRIPTION:
URL:https://mustardseedms.org/event/reading-with-peg-54/
CATEGORIES:Activity Center
END:VEVENT
END:VCALENDAR