BEGIN:VCALENDAR
VERSION:2.0
PRODID:-//The Mustard Seed - ECPv6.6.4.2//NONSGML v1.0//EN
CALSCALE:GREGORIAN
METHOD:PUBLISH
X-WR-CALNAME:The Mustard Seed
X-ORIGINAL-URL:https://mustardseedms.org
X-WR-CALDESC:Events for The Mustard Seed
REFRESH-INTERVAL;VALUE=DURATION:PT1H
X-Robots-Tag:noindex
X-PUBLISHED-TTL:PT1H
BEGIN:VTIMEZONE
TZID:UTC
BEGIN:STANDARD
TZOFFSETFROM:+0000
TZOFFSETTO:+0000
TZNAME:UTC
DTSTART:20200101T000000
END:STANDARD
TZID:America/Chicago
BEGIN:DAYLIGHT
TZOFFSETFROM:-0600
TZOFFSETTO:-0500
TZNAME:CDT
DTSTART:20200308T080000
END:DAYLIGHT
BEGIN:STANDARD
TZOFFSETFROM:-0500
TZOFFSETTO:-0600
TZNAME:CST
DTSTART:20201101T070000
END:STANDARD
END:VTIMEZONE
BEGIN:VEVENT
DTSTART;TZID=UTC:20200219T133000
DTEND;TZID=UTC:20200219T143000
DTSTAMP:20260423T225710
CREATED:20200206T232859Z
LAST-MODIFIED:20200206T232859Z
UID:1557-1582119000-1582122600@mustardseedms.org
SUMMARY:Reading with Peg and Shirel
DESCRIPTION:
URL:https://mustardseedms.org/event/reading-with-peg-and-shirel-7/
CATEGORIES:Activity Center
END:VEVENT
BEGIN:VEVENT
DTSTART;TZID=UTC:20200219T084500
DTEND;TZID=UTC:20200219T093000
DTSTAMP:20260423T225710
CREATED:20200206T232907Z
LAST-MODIFIED:20200206T232907Z
UID:1576-1582101900-1582104600@mustardseedms.org
SUMMARY:Mandy Leads Devotion
DESCRIPTION:
URL:https://mustardseedms.org/event/mandy-leads-devotion-2/
CATEGORIES:Activity Center
END:VEVENT
BEGIN:VEVENT
DTSTART;TZID=UTC:20200218T144500
DTEND;TZID=UTC:20200218T160000
DTSTAMP:20260423T225710
CREATED:20200206T232908Z
LAST-MODIFIED:20200206T232908Z
UID:1582-1582037100-1582041600@mustardseedms.org
SUMMARY:Art Project with JP NAHS Students
DESCRIPTION:
URL:https://mustardseedms.org/event/art-project-with-jp-nahs-students/
CATEGORIES:Activity Center
END:VEVENT
BEGIN:VEVENT
DTSTART;TZID=UTC:20200218T133000
DTEND;TZID=UTC:20200218T143000
DTSTAMP:20260423T225710
CREATED:20200206T232906Z
LAST-MODIFIED:20200206T232906Z
UID:1572-1582032600-1582036200@mustardseedms.org
SUMMARY:Fun with Laurie!
DESCRIPTION:
URL:https://mustardseedms.org/event/fun-with-laurie-14/
CATEGORIES:Activity Center
END:VEVENT
BEGIN:VEVENT
DTSTART;TZID=UTC:20200214T133000
DTEND;TZID=UTC:20200214T160000
DTSTAMP:20260423T225710
CREATED:20200206T232904Z
LAST-MODIFIED:20200206T232904Z
UID:1566-1581687000-1581696000@mustardseedms.org
SUMMARY:Valentine's Party with Chenoa
DESCRIPTION:
URL:https://mustardseedms.org/event/valentines-party-with-chenoa/
CATEGORIES:Activity Center
END:VEVENT
BEGIN:VEVENT
DTSTART;TZID=UTC:20200214T110000
DTEND;TZID=UTC:20200214T130000
DTSTAMP:20260423T225710
CREATED:20200206T232904Z
LAST-MODIFIED:20200206T232904Z
UID:1565-1581678000-1581685200@mustardseedms.org
SUMMARY:Lunch (Group Choice)
DESCRIPTION:
URL:https://mustardseedms.org/event/lunch-group-choice-8/
CATEGORIES:Activity Center
END:VEVENT
BEGIN:VEVENT
DTSTART;TZID=UTC:20200213T133000
DTEND;TZID=UTC:20200213T143000
DTSTAMP:20260423T225710
CREATED:20200206T232901Z
LAST-MODIFIED:20200206T232901Z
UID:1558-1581600600-1581604200@mustardseedms.org
SUMMARY:Reading with Peg
DESCRIPTION:
URL:https://mustardseedms.org/event/reading-with-peg-47/
CATEGORIES:Activity Center
END:VEVENT
BEGIN:VEVENT
DTSTART;TZID=UTC:20200212T133000
DTEND;TZID=UTC:20200212T143000
DTSTAMP:20260423T225710
CREATED:20200206T232858Z
LAST-MODIFIED:20200206T232858Z
UID:1555-1581514200-1581517800@mustardseedms.org
SUMMARY:Reading with Peg and Shirel
DESCRIPTION:
URL:https://mustardseedms.org/event/reading-with-peg-and-shirel-6/
CATEGORIES:Activity Center
END:VEVENT
BEGIN:VEVENT
DTSTART;TZID=UTC:20200212T084500
DTEND;TZID=UTC:20200212T093000
DTSTAMP:20260423T225710
CREATED:20200206T232906Z
LAST-MODIFIED:20200206T232906Z
UID:1575-1581497100-1581499800@mustardseedms.org
SUMMARY:Beth Leads Devotion
DESCRIPTION:
URL:https://mustardseedms.org/event/beth-leads-devotion/
CATEGORIES:Activity Center
END:VEVENT
BEGIN:VEVENT
DTSTART;TZID=UTC:20200207T180000
DTEND;TZID=UTC:20200207T210000
DTSTAMP:20260423T225710
CREATED:20200206T232908Z
LAST-MODIFIED:20200206T232908Z
UID:1581-1581098400-1581109200@mustardseedms.org
SUMMARY:Tim Tebow Foundations's "Night to Shine"
DESCRIPTION:
URL:https://mustardseedms.org/event/tim-tebow-foundationss-night-to-shine/
CATEGORIES:Activity Center
END:VEVENT
BEGIN:VEVENT
DTSTART;TZID=UTC:20200207T130000
DTEND;TZID=UTC:20200207T150000
DTSTAMP:20260423T225710
CREATED:20200206T232903Z
LAST-MODIFIED:20200206T232903Z
UID:1564-1581080400-1581087600@mustardseedms.org
SUMMARY:Dollar Store Dash & Show and Tell
DESCRIPTION:
URL:https://mustardseedms.org/event/dollar-store-dash-show-and-tell/
CATEGORIES:Activity Center
END:VEVENT
BEGIN:VEVENT
DTSTART;TZID=UTC:20200207T120000
DTEND;TZID=UTC:20200207T130000
DTSTAMP:20260423T225710
CREATED:20200206T232903Z
LAST-MODIFIED:20200206T232903Z
UID:1563-1581076800-1581080400@mustardseedms.org
SUMMARY:Lunch (Group Choice)
DESCRIPTION:
URL:https://mustardseedms.org/event/lunch-group-choice-7/
CATEGORIES:Activity Center
END:VEVENT
BEGIN:VEVENT
DTSTART;TZID=UTC:20200207T090000
DTEND;TZID=UTC:20200207T120000
DTSTAMP:20260423T225710
CREATED:20200206T232902Z
LAST-MODIFIED:20200206T232902Z
UID:1562-1581066000-1581076800@mustardseedms.org
SUMMARY:"Matilda: The Musical "at New Stage Theatre
DESCRIPTION:
URL:https://mustardseedms.org/event/matilda-the-musical-at-new-stage-theatre/
CATEGORIES:Activity Center
END:VEVENT
BEGIN:VEVENT
DTSTART;TZID=UTC:20200206T133000
DTEND;TZID=UTC:20200206T143000
DTSTAMP:20260423T225710
CREATED:20200206T232858Z
LAST-MODIFIED:20200206T232858Z
UID:1554-1580995800-1580999400@mustardseedms.org
SUMMARY:Reading with Peg
DESCRIPTION:
URL:https://mustardseedms.org/event/reading-with-peg-46/
CATEGORIES:Activity Center
END:VEVENT
BEGIN:VEVENT
DTSTART;VALUE=DATE:20200206
DTEND;VALUE=DATE:20200207
DTSTAMP:20260423T225710
CREATED:20200206T232908Z
LAST-MODIFIED:20200206T232908Z
UID:1580-1580947200-1581033599@mustardseedms.org
SUMMARY:Everyone wear RED today as we support the American Heart Association!
DESCRIPTION:
URL:https://mustardseedms.org/event/everyone-wear-red-today-as-we-support-the-american-heart-association/
CATEGORIES:Activity Center
END:VEVENT
BEGIN:VEVENT
DTSTART;TZID=UTC:20200205T143000
DTEND;TZID=UTC:20200205T153000
DTSTAMP:20260423T225710
CREATED:20200206T232901Z
LAST-MODIFIED:20200206T232901Z
UID:1561-1580913000-1580916600@mustardseedms.org
SUMMARY:Birthday Bash
DESCRIPTION:
URL:https://mustardseedms.org/event/birthday-bash-8/
CATEGORIES:Activity Center
END:VEVENT
BEGIN:VEVENT
DTSTART;TZID=UTC:20200205T133000
DTEND;TZID=UTC:20200205T143000
DTSTAMP:20260423T225710
CREATED:20200206T232858Z
LAST-MODIFIED:20200206T232858Z
UID:1553-1580909400-1580913000@mustardseedms.org
SUMMARY:Reading with Peg and Shirel
DESCRIPTION:
URL:https://mustardseedms.org/event/reading-with-peg-and-shirel-5/
CATEGORIES:Activity Center
END:VEVENT
BEGIN:VEVENT
DTSTART;TZID=UTC:20200205T110000
DTEND;TZID=UTC:20200205T120000
DTSTAMP:20260423T225710
CREATED:20200206T232908Z
LAST-MODIFIED:20200206T232908Z
UID:1579-1580900400-1580904000@mustardseedms.org
SUMMARY:Dixie National Rodeo Queens
DESCRIPTION:
URL:https://mustardseedms.org/event/dixie-national-rodeo-queens/
CATEGORIES:Activity Center
END:VEVENT
BEGIN:VEVENT
DTSTART;TZID=UTC:20200205T093000
DTEND;TZID=UTC:20200205T103000
DTSTAMP:20260423T225710
CREATED:20200206T232906Z
LAST-MODIFIED:20200206T232906Z
UID:1573-1580895000-1580898600@mustardseedms.org
SUMMARY:Movement with Courtney
DESCRIPTION:
URL:https://mustardseedms.org/event/movement-with-courtney-5/
CATEGORIES:Activity Center
END:VEVENT
BEGIN:VEVENT
DTSTART;TZID=UTC:20200205T084500
DTEND;TZID=UTC:20200205T093000
DTSTAMP:20260423T225710
CREATED:20200206T232906Z
LAST-MODIFIED:20200206T232906Z
UID:1574-1580892300-1580895000@mustardseedms.org
SUMMARY:Jenn Leads Devotion
DESCRIPTION:
URL:https://mustardseedms.org/event/jenn-leads-devotion/
CATEGORIES:Activity Center
END:VEVENT
BEGIN:VEVENT
DTSTART;TZID=UTC:20200204T133000
DTEND;TZID=UTC:20200204T143000
DTSTAMP:20260423T225710
CREATED:20200206T232905Z
LAST-MODIFIED:20200206T232905Z
UID:1571-1580823000-1580826600@mustardseedms.org
SUMMARY:Fun with Laurie!
DESCRIPTION:
URL:https://mustardseedms.org/event/fun-with-laurie-13/
CATEGORIES:Activity Center
END:VEVENT
BEGIN:VEVENT
DTSTART;TZID=UTC:20200203T083000
DTEND;TZID=UTC:20200203T100000
DTSTAMP:20260423T225710
CREATED:20200206T232907Z
LAST-MODIFIED:20200206T232907Z
UID:1578-1580718600-1580724000@mustardseedms.org
SUMMARY:Haircuts with The Parlor Salon
DESCRIPTION:
URL:https://mustardseedms.org/event/haircuts-with-the-parlor-salon-5/
CATEGORIES:Activity Center
END:VEVENT
BEGIN:VEVENT
DTSTART;TZID=UTC:20200131T090000
DTEND;TZID=UTC:20200131T160000
DTSTAMP:20260423T225710
CREATED:20200115T223654Z
LAST-MODIFIED:20200206T232557Z
UID:1507-1580461200-1580486400@mustardseedms.org
SUMMARY:Seedster Appreciation Day
DESCRIPTION:Saddle up\, Pardners and come ready to celebrate YOU! We will have a fun day of celebrating all of your accomplishments over the past year “Western style” and enjoyng a couple of surprises along the way!!!
URL:https://mustardseedms.org/event/seedster-appreciation-day/
CATEGORIES:Activity Center
END:VEVENT
BEGIN:VEVENT
DTSTART;TZID=UTC:20200130T133000
DTEND;TZID=UTC:20200130T143000
DTSTAMP:20260423T225710
CREATED:20200115T223653Z
LAST-MODIFIED:20200206T232554Z
UID:1501-1580391000-1580394600@mustardseedms.org
SUMMARY:Reading with Peg
DESCRIPTION:
URL:https://mustardseedms.org/event/reading-with-peg-45/
CATEGORIES:Activity Center
END:VEVENT
BEGIN:VEVENT
DTSTART;TZID=UTC:20200129T133000
DTEND;TZID=UTC:20200129T143000
DTSTAMP:20260423T225710
CREATED:20200115T223653Z
LAST-MODIFIED:20200206T232554Z
UID:1500-1580304600-1580308200@mustardseedms.org
SUMMARY:Reading with Peg and Shirel
DESCRIPTION:
URL:https://mustardseedms.org/event/reading-with-peg-and-shirel-4/
CATEGORIES:Activity Center
END:VEVENT
BEGIN:VEVENT
DTSTART;TZID=America/Chicago:20200129T100000
DTEND;TZID=America/Chicago:20200129T160000
DTSTAMP:20260423T225710
CREATED:20201207T230136Z
LAST-MODIFIED:20201207T230136Z
UID:2192-1580292000-1580313600@mustardseedms.org
SUMMARY:Seedster Appreciation Day
DESCRIPTION:Hey there campers! Come ready to celebrate YOU and all your accomplishments over the past year “Camping Style”! We’ll also enjoy a couple of surprises along the way!!!
URL:https://mustardseedms.org/event/seedster-appreciation-day-2/
CATEGORIES:Activity Center
END:VEVENT
BEGIN:VEVENT
DTSTART;TZID=UTC:20200129T084500
DTEND;TZID=UTC:20200129T093000
DTSTAMP:20260423T225710
CREATED:20200115T223657Z
LAST-MODIFIED:20200206T232600Z
UID:1514-1580287500-1580290200@mustardseedms.org
SUMMARY:Kaitlin Leads Devotion
DESCRIPTION:
URL:https://mustardseedms.org/event/kaitlin-leads-devotion-2/
CATEGORIES:Activity Center
END:VEVENT
BEGIN:VEVENT
DTSTART;VALUE=DATE:20200128
DTEND;VALUE=DATE:20200129
DTSTAMP:20260423T225710
CREATED:20201207T230135Z
LAST-MODIFIED:20201207T230135Z
UID:2187-1580169600-1580255999@mustardseedms.org
SUMMARY:National Have Fun at Work Day
DESCRIPTION:
URL:https://mustardseedms.org/event/national-have-fun-at-work-day/
CATEGORIES:Activity Center
END:VEVENT
BEGIN:VEVENT
DTSTART;VALUE=DATE:20200125
DTEND;VALUE=DATE:20200126
DTSTAMP:20260423T225710
CREATED:20201207T230134Z
LAST-MODIFIED:20201207T230134Z
UID:2186-1579910400-1579996799@mustardseedms.org
SUMMARY:National Opposite Day
DESCRIPTION:
URL:https://mustardseedms.org/event/national-opposite-day/
CATEGORIES:Activity Center
END:VEVENT
BEGIN:VEVENT
DTSTART;TZID=UTC:20200124T120000
DTEND;TZID=UTC:20200124T160000
DTSTAMP:20260423T225710
CREATED:20200115T223654Z
LAST-MODIFIED:20200206T232557Z
UID:1506-1579867200-1579881600@mustardseedms.org
SUMMARY:"Souper Bowl" Party with MSPB
DESCRIPTION:Be sure to wear your favorite team t-shirt or jersey!
URL:https://mustardseedms.org/event/souper-bowl-party-with-mspb/
CATEGORIES:Activity Center
END:VEVENT
END:VCALENDAR