BEGIN:VCALENDAR
VERSION:2.0
PRODID:-//The Mustard Seed - ECPv6.6.4.2//NONSGML v1.0//EN
CALSCALE:GREGORIAN
METHOD:PUBLISH
X-WR-CALNAME:The Mustard Seed
X-ORIGINAL-URL:https://mustardseedms.org
X-WR-CALDESC:Events for The Mustard Seed
REFRESH-INTERVAL;VALUE=DURATION:PT1H
X-Robots-Tag:noindex
X-PUBLISHED-TTL:PT1H
BEGIN:VTIMEZONE
TZID:America/Chicago
BEGIN:DAYLIGHT
TZOFFSETFROM:-0600
TZOFFSETTO:-0500
TZNAME:CDT
DTSTART:20200308T080000
END:DAYLIGHT
BEGIN:STANDARD
TZOFFSETFROM:-0500
TZOFFSETTO:-0600
TZNAME:CST
DTSTART:20201101T070000
END:STANDARD
TZID:UTC
BEGIN:STANDARD
TZOFFSETFROM:+0000
TZOFFSETTO:+0000
TZNAME:UTC
DTSTART:20190101T000000
END:STANDARD
END:VTIMEZONE
BEGIN:VEVENT
DTSTART;VALUE=DATE:20200128
DTEND;VALUE=DATE:20200129
DTSTAMP:20260424T005039
CREATED:20201207T230135Z
LAST-MODIFIED:20201207T230135Z
UID:2187-1580169600-1580255999@mustardseedms.org
SUMMARY:National Have Fun at Work Day
DESCRIPTION:
URL:https://mustardseedms.org/event/national-have-fun-at-work-day/
CATEGORIES:Activity Center
END:VEVENT
BEGIN:VEVENT
DTSTART;VALUE=DATE:20200125
DTEND;VALUE=DATE:20200126
DTSTAMP:20260424T005039
CREATED:20201207T230134Z
LAST-MODIFIED:20201207T230134Z
UID:2186-1579910400-1579996799@mustardseedms.org
SUMMARY:National Opposite Day
DESCRIPTION:
URL:https://mustardseedms.org/event/national-opposite-day/
CATEGORIES:Activity Center
END:VEVENT
BEGIN:VEVENT
DTSTART;TZID=UTC:20200124T120000
DTEND;TZID=UTC:20200124T160000
DTSTAMP:20260424T005039
CREATED:20200115T223654Z
LAST-MODIFIED:20200206T232557Z
UID:1506-1579867200-1579881600@mustardseedms.org
SUMMARY:"Souper Bowl" Party with MSPB
DESCRIPTION:Be sure to wear your favorite team t-shirt or jersey!
URL:https://mustardseedms.org/event/souper-bowl-party-with-mspb/
CATEGORIES:Activity Center
END:VEVENT
BEGIN:VEVENT
DTSTART;TZID=UTC:20200123T133000
DTEND;TZID=UTC:20200123T143000
DTSTAMP:20260424T005039
CREATED:20200115T223652Z
LAST-MODIFIED:20200206T232554Z
UID:1499-1579786200-1579789800@mustardseedms.org
SUMMARY:Reading with Peg
DESCRIPTION:
URL:https://mustardseedms.org/event/reading-with-peg-44/
CATEGORIES:Activity Center
END:VEVENT
BEGIN:VEVENT
DTSTART;TZID=UTC:20200122T133000
DTEND;TZID=UTC:20200122T143000
DTSTAMP:20260424T005039
CREATED:20200115T223650Z
LAST-MODIFIED:20200206T232552Z
UID:1498-1579699800-1579703400@mustardseedms.org
SUMMARY:Reading with Peg and Shirel
DESCRIPTION:
URL:https://mustardseedms.org/event/reading-with-peg-and-shirel-3/
CATEGORIES:Activity Center
END:VEVENT
BEGIN:VEVENT
DTSTART;TZID=America/Chicago:20200122T100000
DTEND;TZID=America/Chicago:20200122T160000
DTSTAMP:20260424T005039
CREATED:20201207T230136Z
LAST-MODIFIED:20201207T230136Z
UID:2191-1579687200-1579708800@mustardseedms.org
SUMMARY:Norway Day
DESCRIPTION:We will learn all about the country Norway and celebrate its fun food and culture!
URL:https://mustardseedms.org/event/norway-day/
CATEGORIES:Activity Center
END:VEVENT
BEGIN:VEVENT
DTSTART;TZID=UTC:20200122T084500
DTEND;TZID=UTC:20200122T093000
DTSTAMP:20260424T005039
CREATED:20200115T223656Z
LAST-MODIFIED:20200206T232559Z
UID:1513-1579682700-1579685400@mustardseedms.org
SUMMARY:Amber Leads Devotion
DESCRIPTION:
URL:https://mustardseedms.org/event/amber-leads-devotion-2/
CATEGORIES:Activity Center
END:VEVENT
BEGIN:VEVENT
DTSTART;TZID=UTC:20200121T133000
DTEND;TZID=UTC:20200121T143000
DTSTAMP:20260424T005039
CREATED:20200115T223655Z
LAST-MODIFIED:20200206T232558Z
UID:1509-1579613400-1579617000@mustardseedms.org
SUMMARY:Fun with Laurie!
DESCRIPTION:
URL:https://mustardseedms.org/event/fun-with-laurie-12/
CATEGORIES:Activity Center
END:VEVENT
BEGIN:VEVENT
DTSTART;VALUE=DATE:20200119
DTEND;VALUE=DATE:20200120
DTSTAMP:20260424T005039
CREATED:20201207T230134Z
LAST-MODIFIED:20201207T230134Z
UID:2185-1579392000-1579478399@mustardseedms.org
SUMMARY:National Popcorn Day
DESCRIPTION:
URL:https://mustardseedms.org/event/national-popcorn-day/
CATEGORIES:Activity Center
END:VEVENT
BEGIN:VEVENT
DTSTART;VALUE=DATE:20200118
DTEND;VALUE=DATE:20200119
DTSTAMP:20260424T005039
CREATED:20201207T230132Z
LAST-MODIFIED:20201207T230132Z
UID:2184-1579305600-1579391999@mustardseedms.org
SUMMARY:Winnie the Pooh Day
DESCRIPTION:
URL:https://mustardseedms.org/event/winnie-the-pooh-day/
CATEGORIES:Activity Center
END:VEVENT
BEGIN:VEVENT
DTSTART;TZID=UTC:20200117T130000
DTEND;TZID=UTC:20200117T160000
DTSTAMP:20260424T005039
CREATED:20200115T223654Z
LAST-MODIFIED:20200206T232556Z
UID:1505-1579266000-1579276800@mustardseedms.org
SUMMARY:Volunteer Appreciation Day
DESCRIPTION:Help us celebrate and appreciate our volunteers that help us out all year long! Let’s show them some love!!!
URL:https://mustardseedms.org/event/volunteer-appreciation-day/
CATEGORIES:Activity Center
END:VEVENT
BEGIN:VEVENT
DTSTART;TZID=UTC:20200117T110000
DTEND;TZID=UTC:20200117T123000
DTSTAMP:20260424T005039
CREATED:20200115T223654Z
LAST-MODIFIED:20200206T232556Z
UID:1504-1579258800-1579264200@mustardseedms.org
SUMMARY:Lunch (Group Choice)
DESCRIPTION:
URL:https://mustardseedms.org/event/lunch-group-choice-6/
CATEGORIES:Activity Center
END:VEVENT
BEGIN:VEVENT
DTSTART;TZID=UTC:20200116T133000
DTEND;TZID=UTC:20200116T143000
DTSTAMP:20260424T005039
CREATED:20200115T223650Z
LAST-MODIFIED:20200206T232551Z
UID:1497-1579181400-1579185000@mustardseedms.org
SUMMARY:Reading with Peg & Dawgone Fun Therapy Dogs
DESCRIPTION:
URL:https://mustardseedms.org/event/reading-with-peg-dawgone-fun-therapy-dogs-7/
CATEGORIES:Activity Center
END:VEVENT
BEGIN:VEVENT
DTSTART;TZID=UTC:20200115T133000
DTEND;TZID=UTC:20200115T143000
DTSTAMP:20260424T005039
CREATED:20200115T223650Z
LAST-MODIFIED:20200206T232551Z
UID:1496-1579095000-1579098600@mustardseedms.org
SUMMARY:Reading with Peg and Shirel
DESCRIPTION:
URL:https://mustardseedms.org/event/reading-with-peg-and-shirel-2/
CATEGORIES:Activity Center
END:VEVENT
BEGIN:VEVENT
DTSTART;TZID=America/Chicago:20200115T100000
DTEND;TZID=America/Chicago:20200115T160000
DTSTAMP:20260424T005039
CREATED:20201207T230136Z
LAST-MODIFIED:20201207T230136Z
UID:2190-1579082400-1579104000@mustardseedms.org
SUMMARY:Pajama Party
DESCRIPTION:Wear your PJ’s and get ready for a fun day of games\, movies and a yummy lunch!
URL:https://mustardseedms.org/event/pajama-party/
CATEGORIES:Activity Center
END:VEVENT
BEGIN:VEVENT
DTSTART;TZID=UTC:20200115T084500
DTEND;TZID=UTC:20200115T093000
DTSTAMP:20260424T005039
CREATED:20200115T223656Z
LAST-MODIFIED:20200206T232559Z
UID:1512-1579077900-1579080600@mustardseedms.org
SUMMARY:Kristi Leads Devotion
DESCRIPTION:
URL:https://mustardseedms.org/event/kristi-leads-devotion-2/
CATEGORIES:Activity Center
END:VEVENT
BEGIN:VEVENT
DTSTART;VALUE=DATE:20200115
DTEND;VALUE=DATE:20200116
DTSTAMP:20260424T005039
CREATED:20201207T230132Z
LAST-MODIFIED:20201207T230132Z
UID:2183-1579046400-1579132799@mustardseedms.org
SUMMARY:National Bagel Day
DESCRIPTION:
URL:https://mustardseedms.org/event/national-bagel-day/
CATEGORIES:Activity Center
END:VEVENT
BEGIN:VEVENT
DTSTART;VALUE=DATE:20200112
DTEND;VALUE=DATE:20200113
DTSTAMP:20260424T005039
CREATED:20201207T230131Z
LAST-MODIFIED:20201207T230131Z
UID:2182-1578787200-1578873599@mustardseedms.org
SUMMARY:National Hot Tea Day
DESCRIPTION:
URL:https://mustardseedms.org/event/national-hot-tea-day/
CATEGORIES:Activity Center
END:VEVENT
BEGIN:VEVENT
DTSTART;TZID=UTC:20200110T090000
DTEND;TZID=UTC:20200110T160000
DTSTAMP:20260424T005039
CREATED:20200115T223653Z
LAST-MODIFIED:20200206T232555Z
UID:1503-1578646800-1578672000@mustardseedms.org
SUMMARY:New Year's Party!!!
DESCRIPTION:Today we say goodbye to 2019 and hello to 2020! We will celebrate with a ball drop\, resolutions\, a  proper New Year’s lunch\, and even some special entertainment!
URL:https://mustardseedms.org/event/new-years-party/
CATEGORIES:Activity Center
END:VEVENT
BEGIN:VEVENT
DTSTART;TZID=UTC:20200109T133000
DTEND;TZID=UTC:20200109T143000
DTSTAMP:20260424T005039
CREATED:20200115T223649Z
LAST-MODIFIED:20200206T232551Z
UID:1495-1578576600-1578580200@mustardseedms.org
SUMMARY:Reading with Peg
DESCRIPTION:
URL:https://mustardseedms.org/event/reading-with-peg-43/
CATEGORIES:Activity Center
END:VEVENT
BEGIN:VEVENT
DTSTART;TZID=UTC:20200108T143000
DTEND;TZID=UTC:20200108T153000
DTSTAMP:20260424T005039
CREATED:20200115T223653Z
LAST-MODIFIED:20200206T232555Z
UID:1502-1578493800-1578497400@mustardseedms.org
SUMMARY:Birthday Bash
DESCRIPTION:
URL:https://mustardseedms.org/event/birthday-bash-7/
CATEGORIES:Activity Center
END:VEVENT
BEGIN:VEVENT
DTSTART;TZID=UTC:20200108T133000
DTEND;TZID=UTC:20200108T143000
DTSTAMP:20260424T005039
CREATED:20200115T223649Z
LAST-MODIFIED:20200206T232550Z
UID:1494-1578490200-1578493800@mustardseedms.org
SUMMARY:Reading with Peg and Shirel
DESCRIPTION:
URL:https://mustardseedms.org/event/reading-with-peg-and-shirel/
CATEGORIES:Activity Center
END:VEVENT
BEGIN:VEVENT
DTSTART;TZID=America/Chicago:20200108T100000
DTEND;TZID=America/Chicago:20200108T160000
DTSTAMP:20260424T005039
CREATED:20201207T230135Z
LAST-MODIFIED:20201207T230135Z
UID:2189-1578477600-1578499200@mustardseedms.org
SUMMARY:New Year's Party
DESCRIPTION:Today we say goodbye to 2020 and hello to 2021! We will celebrate with a ball drop\, resolutions and a proper New Year’s lunch!
URL:https://mustardseedms.org/event/new-years-party-2/
CATEGORIES:Activity Center
END:VEVENT
BEGIN:VEVENT
DTSTART;TZID=UTC:20200108T093000
DTEND;TZID=UTC:20200108T103000
DTSTAMP:20260424T005039
CREATED:20200115T223655Z
LAST-MODIFIED:20200206T232558Z
UID:1510-1578475800-1578479400@mustardseedms.org
SUMMARY:Movement with Courtney
DESCRIPTION:
URL:https://mustardseedms.org/event/movement-with-courtney-4/
CATEGORIES:Activity Center
END:VEVENT
BEGIN:VEVENT
DTSTART;TZID=UTC:20200108T084500
DTEND;TZID=UTC:20200108T093000
DTSTAMP:20260424T005039
CREATED:20200115T223656Z
LAST-MODIFIED:20200206T232559Z
UID:1511-1578473100-1578475800@mustardseedms.org
SUMMARY:Mandy Leads Devotion
DESCRIPTION:
URL:https://mustardseedms.org/event/mandy-leads-devotion/
CATEGORIES:Activity Center
END:VEVENT
BEGIN:VEVENT
DTSTART;TZID=UTC:20200107T133000
DTEND;TZID=UTC:20200107T143000
DTSTAMP:20260424T005039
CREATED:20200115T223655Z
LAST-MODIFIED:20200206T232557Z
UID:1508-1578403800-1578407400@mustardseedms.org
SUMMARY:Fun with Laurie!
DESCRIPTION:
URL:https://mustardseedms.org/event/fun-with-laurie-11/
CATEGORIES:Activity Center
END:VEVENT
BEGIN:VEVENT
DTSTART;TZID=America/Chicago:20200106T143000
DTEND;TZID=America/Chicago:20200106T153000
DTSTAMP:20260424T005039
CREATED:20201207T230135Z
LAST-MODIFIED:20201207T230135Z
UID:2188-1578321000-1578324600@mustardseedms.org
SUMMARY:Birthday Bash
DESCRIPTION:
URL:https://mustardseedms.org/event/birthday-bash-13/
CATEGORIES:Activity Center
END:VEVENT
BEGIN:VEVENT
DTSTART;VALUE=DATE:20200105
DTEND;VALUE=DATE:20200106
DTSTAMP:20260424T005039
CREATED:20201207T230131Z
LAST-MODIFIED:20201207T230131Z
UID:2181-1578182400-1578268799@mustardseedms.org
SUMMARY:National Bird Day
DESCRIPTION:
URL:https://mustardseedms.org/event/national-bird-day/
CATEGORIES:Activity Center
END:VEVENT
BEGIN:VEVENT
DTSTART;VALUE=DATE:20200104
DTEND;VALUE=DATE:20200105
DTSTAMP:20260424T005039
CREATED:20201207T230131Z
LAST-MODIFIED:20201207T230131Z
UID:2180-1578096000-1578182399@mustardseedms.org
SUMMARY:Trivia Day
DESCRIPTION:
URL:https://mustardseedms.org/event/trivia-day/
CATEGORIES:Activity Center
END:VEVENT
BEGIN:VEVENT
DTSTART;VALUE=DATE:20191229
DTEND;VALUE=DATE:20191230
DTSTAMP:20260424T005039
CREATED:20190619T031633Z
LAST-MODIFIED:20190705T232024Z
UID:842-1577577600-1577663999@mustardseedms.org
SUMMARY:Happy Birthday\, Lindsay Hamilton!
DESCRIPTION:
URL:https://mustardseedms.org/event/happy-birthday-lindsay-hamilton-2/
CATEGORIES:Birthdays
END:VEVENT
END:VCALENDAR