BEGIN:VCALENDAR
VERSION:2.0
PRODID:-//The Mustard Seed - ECPv6.6.4.2//NONSGML v1.0//EN
CALSCALE:GREGORIAN
METHOD:PUBLISH
X-ORIGINAL-URL:https://mustardseedms.org
X-WR-CALDESC:Events for The Mustard Seed
REFRESH-INTERVAL;VALUE=DURATION:PT1H
X-Robots-Tag:noindex
X-PUBLISHED-TTL:PT1H
BEGIN:VTIMEZONE
TZID:America/Chicago
BEGIN:DAYLIGHT
TZOFFSETFROM:-0600
TZOFFSETTO:-0500
TZNAME:CDT
DTSTART:20200308T080000
END:DAYLIGHT
BEGIN:STANDARD
TZOFFSETFROM:-0500
TZOFFSETTO:-0600
TZNAME:CST
DTSTART:20201101T070000
END:STANDARD
END:VTIMEZONE
BEGIN:VEVENT
DTSTART;VALUE=DATE:20201111
DTEND;VALUE=DATE:20201112
DTSTAMP:20260424T033655
CREATED:20201109T170145Z
LAST-MODIFIED:20201109T170145Z
UID:2076-1605052800-1605139199@mustardseedms.org
SUMMARY:World Origami Day
DESCRIPTION:
URL:https://mustardseedms.org/event/world-origami-day/
CATEGORIES:Activity Center
END:VEVENT
BEGIN:VEVENT
DTSTART;TZID=America/Chicago:20201111T133000
DTEND;TZID=America/Chicago:20201111T143000
DTSTAMP:20260424T033655
CREATED:20201109T170149Z
LAST-MODIFIED:20201109T170149Z
UID:2083-1605101400-1605105000@mustardseedms.org
SUMMARY:Reading with Peg
DESCRIPTION:
URL:https://mustardseedms.org/event/reading-with-peg-57/
CATEGORIES:Activity Center
END:VEVENT
BEGIN:VEVENT
DTSTART;VALUE=DATE:20201113
DTEND;VALUE=DATE:20201114
DTSTAMP:20260424T033655
CREATED:20201109T170146Z
LAST-MODIFIED:20201109T170146Z
UID:2077-1605225600-1605311999@mustardseedms.org
SUMMARY:World Kindness Day
DESCRIPTION:
URL:https://mustardseedms.org/event/world-kindness-day/
CATEGORIES:Activity Center
END:VEVENT
BEGIN:VEVENT
DTSTART;TZID=America/Chicago:20201113T090000
DTEND;TZID=America/Chicago:20201113T163000
DTSTAMP:20260424T033655
CREATED:20201106T022033Z
LAST-MODIFIED:20201106T022033Z
UID:2063-1605258000-1605285000@mustardseedms.org
SUMMARY:Pop Up Shop at Green Oak Florist Jackson
DESCRIPTION:Join us for a pop up shop at Green Oak Florist in Jackson 9AM-4:30PM on Friday\, November 13th!
URL:https://mustardseedms.org/event/pop-up-shop-at-green-oak-florist-jackson/
CATEGORIES:Events,Gift Shop,Homepage Featured Event
END:VEVENT
BEGIN:VEVENT
DTSTART;TZID=America/Chicago:20201113T093000
DTEND;TZID=America/Chicago:20201113T153000
DTSTAMP:20260424T033655
CREATED:20201109T170151Z
LAST-MODIFIED:20201109T170151Z
UID:2090-1605259800-1605281400@mustardseedms.org
SUMMARY:Love Your Neighbor(hood) Day
DESCRIPTION:Today we work on projects that show our community just how much we love them!
URL:https://mustardseedms.org/event/love-your-neighborhood-day/
CATEGORIES:Activity Center
END:VEVENT
BEGIN:VEVENT
DTSTART;TZID=America/Chicago:20201116T093000
DTEND;TZID=America/Chicago:20201116T103000
DTSTAMP:20260424T033655
CREATED:20201109T170153Z
LAST-MODIFIED:20201109T170153Z
UID:2096-1605519000-1605522600@mustardseedms.org
SUMMARY:Visit with Therapy Dog Archie
DESCRIPTION:
URL:https://mustardseedms.org/event/visit-with-therapy-dog-archie-7/
CATEGORIES:Activity Center
END:VEVENT
BEGIN:VEVENT
DTSTART;VALUE=DATE:20201117
DTEND;VALUE=DATE:20201118
DTSTAMP:20260424T033655
CREATED:20201109T170146Z
LAST-MODIFIED:20201109T170146Z
UID:2078-1605571200-1605657599@mustardseedms.org
SUMMARY:Homemade Bread Day
DESCRIPTION:
URL:https://mustardseedms.org/event/homemade-bread-day/
CATEGORIES:Activity Center
END:VEVENT
BEGIN:VEVENT
DTSTART;TZID=America/Chicago:20201117T100000
DTEND;TZID=America/Chicago:20201117T180000
DTSTAMP:20260424T033655
CREATED:20201106T021836Z
LAST-MODIFIED:20201106T021836Z
UID:2062-1605607200-1605636000@mustardseedms.org
SUMMARY:Pop Up Shop at Forget Me Nots Brandon
DESCRIPTION:Join us for a Mustard Seed gift shop Pop Up Shop at Forget Me Nots in Brandon from 10AM-6PM
URL:https://mustardseedms.org/event/pop-up-shop-at-forget-me-nots-brandon/
CATEGORIES:Events,Gift Shop,Homepage Featured Event
END:VEVENT
BEGIN:VEVENT
DTSTART;VALUE=DATE:20201118
DTEND;VALUE=DATE:20201119
DTSTAMP:20260424T033655
CREATED:20201109T170148Z
LAST-MODIFIED:20201109T170148Z
UID:2079-1605657600-1605743999@mustardseedms.org
SUMMARY:Happy Birthday Mickey Mouse!
DESCRIPTION:
URL:https://mustardseedms.org/event/happy-birthday-mickey-mouse/
CATEGORIES:Activity Center
END:VEVENT
BEGIN:VEVENT
DTSTART;TZID=America/Chicago:20201118T133000
DTEND;TZID=America/Chicago:20201118T143000
DTSTAMP:20260424T033655
CREATED:20201109T170150Z
LAST-MODIFIED:20201109T170150Z
UID:2084-1605706200-1605709800@mustardseedms.org
SUMMARY:Reading with Peg
DESCRIPTION:
URL:https://mustardseedms.org/event/reading-with-peg-58/
CATEGORIES:Activity Center
END:VEVENT
BEGIN:VEVENT
DTSTART;TZID=America/Chicago:20201119T133000
DTEND;TZID=America/Chicago:20201119T143000
DTSTAMP:20260424T033655
CREATED:20201109T170152Z
LAST-MODIFIED:20201109T170152Z
UID:2093-1605792600-1605796200@mustardseedms.org
SUMMARY:Dawgone Fun Therapy Dogs
DESCRIPTION:
URL:https://mustardseedms.org/event/dawgone-fun-therapy-dogs-2/
CATEGORIES:Activity Center
END:VEVENT
BEGIN:VEVENT
DTSTART;TZID=America/Chicago:20201120T093000
DTEND;TZID=America/Chicago:20201120T140000
DTSTAMP:20260424T033655
CREATED:20201109T170152Z
LAST-MODIFIED:20201109T170152Z
UID:2091-1605864600-1605880800@mustardseedms.org
SUMMARY:New Mexico Day
DESCRIPTION:Come ready to celebrate the southwest culture and food of the great steat of New Mexico! Taco lunch from Green Ghost Tacos.
URL:https://mustardseedms.org/event/new-mexico-day/
CATEGORIES:Activity Center
END:VEVENT
BEGIN:VEVENT
DTSTART;TZID=America/Chicago:20201120T140000
DTEND;TZID=America/Chicago:20201120T160000
DTSTAMP:20260424T033655
CREATED:20201109T170152Z
LAST-MODIFIED:20201109T170152Z
UID:2092-1605880800-1605888000@mustardseedms.org
SUMMARY:Outside Games with UMMC Students
DESCRIPTION:
URL:https://mustardseedms.org/event/outside-games-with-ummc-students/
CATEGORIES:Activity Center
END:VEVENT
BEGIN:VEVENT
DTSTART;VALUE=DATE:20201123
DTEND;VALUE=DATE:20201124
DTSTAMP:20260424T033655
CREATED:20201109T170148Z
LAST-MODIFIED:20201109T170148Z
UID:2080-1606089600-1606175999@mustardseedms.org
SUMMARY:National Cashew Day
DESCRIPTION:
URL:https://mustardseedms.org/event/national-cashew-day/
CATEGORIES:Activity Center
END:VEVENT
BEGIN:VEVENT
DTSTART;TZID=America/Chicago:20201123T093000
DTEND;TZID=America/Chicago:20201123T103000
DTSTAMP:20260424T033655
CREATED:20201109T170154Z
LAST-MODIFIED:20201109T170154Z
UID:2097-1606123800-1606127400@mustardseedms.org
SUMMARY:Visit with Therapy Dog Archie
DESCRIPTION:
URL:https://mustardseedms.org/event/visit-with-therapy-dog-archie-8/
CATEGORIES:Activity Center
END:VEVENT
BEGIN:VEVENT
DTSTART;TZID=America/Chicago:20201123T113000
DTEND;TZID=America/Chicago:20201123T210000
DTSTAMP:20260424T033655
CREATED:20201027T183143Z
LAST-MODIFIED:20201027T183144Z
UID:2049-1606131000-1606165200@mustardseedms.org
SUMMARY:Mustard Seed Fundraiser at Orange Leaf
DESCRIPTION:Visit Orange Leaf Yogurt Shop off of HWY 51 in Madison on Monday\, November 23rd and a portion of sales will be donated to The Mustard Seed. Orange Leaf is open from 11:30AM-9PM
URL:https://mustardseedms.org/event/mustard-seed-fundraiser-at-orange-leaf-2/
CATEGORIES:Events,Gift Shop,Homepage Featured Event
END:VEVENT
BEGIN:VEVENT
DTSTART;TZID=America/Chicago:20201124T120000
DTEND;TZID=America/Chicago:20201124T133000
DTSTAMP:20260424T033655
CREATED:20201109T170155Z
LAST-MODIFIED:20201109T170155Z
UID:2100-1606219200-1606224600@mustardseedms.org
SUMMARY:Seedster Thanksgiving Lunch
DESCRIPTION:
URL:https://mustardseedms.org/event/seedster-thanksgiving-lunch/
CATEGORIES:Activity Center
END:VEVENT
BEGIN:VEVENT
DTSTART;VALUE=DATE:20201125
DTEND;VALUE=DATE:20201126
DTSTAMP:20260424T033655
CREATED:20200304T171543Z
LAST-MODIFIED:20200304T171543Z
UID:1785-1606262400-1606348799@mustardseedms.org
SUMMARY:Group Homes Close at 6pm for Thanksgiving
DESCRIPTION:Latest Pick-up 6:00pm Wednesady\, November 25 / Earliest Return 5:00pm Sunday\, November 29
URL:https://mustardseedms.org/event/group-homes-close-at-6pm-for-thanksgiving/
CATEGORIES:Group Homes
END:VEVENT
BEGIN:VEVENT
DTSTART;TZID=America/Chicago:20201125T133000
DTEND;TZID=America/Chicago:20201125T143000
DTSTAMP:20260424T033655
CREATED:20201109T170150Z
LAST-MODIFIED:20201109T170150Z
UID:2085-1606311000-1606314600@mustardseedms.org
SUMMARY:Reading with Peg
DESCRIPTION:
URL:https://mustardseedms.org/event/reading-with-peg-59/
CATEGORIES:Activity Center
END:VEVENT
BEGIN:VEVENT
DTSTART;VALUE=DATE:20201126
DTEND;VALUE=DATE:20201130
DTSTAMP:20260424T033655
CREATED:20200304T171545Z
LAST-MODIFIED:20200304T171545Z
UID:1786-1606348800-1606694399@mustardseedms.org
SUMMARY:Group Homes Closed for Thanksgiving
DESCRIPTION:Latest Pick-up 6:00pm Wednesady\, November 25 / Earliest Return 5:00pm Sunday\, November 29
URL:https://mustardseedms.org/event/group-homes-closed-for-thanksgiving/
CATEGORIES:Group Homes
END:VEVENT
BEGIN:VEVENT
DTSTART;VALUE=DATE:20201126
DTEND;VALUE=DATE:20201128
DTSTAMP:20260424T033655
CREATED:20200304T171547Z
LAST-MODIFIED:20200304T171547Z
UID:1795-1606348800-1606521599@mustardseedms.org
SUMMARY:Day Program Closed for Thanksgiving
DESCRIPTION:
URL:https://mustardseedms.org/event/day-program-closed-for-thanksgiving-2/
CATEGORIES:Day Program
END:VEVENT
BEGIN:VEVENT
DTSTART;VALUE=DATE:20201126
DTEND;VALUE=DATE:20201128
DTSTAMP:20260424T033655
CREATED:20200304T171550Z
LAST-MODIFIED:20200304T171550Z
UID:1803-1606348800-1606521599@mustardseedms.org
SUMMARY:Gift Shop and Offices Closed
DESCRIPTION:
URL:https://mustardseedms.org/event/gift-shop-and-offices-closed-15/
CATEGORIES:Gift Shop
END:VEVENT
BEGIN:VEVENT
DTSTART;VALUE=DATE:20201126
DTEND;VALUE=DATE:20201130
DTSTAMP:20260424T033655
CREATED:20201027T183532Z
LAST-MODIFIED:20201027T183533Z
UID:2051-1606348800-1606694399@mustardseedms.org
SUMMARY:Mustard Seed Gift Shop Closed for Thanksgiving Holiday
DESCRIPTION:
URL:https://mustardseedms.org/event/mustard-seed-gift-shop-closed-for-thanksgiving-holiday/
CATEGORIES:Events,Gift Shop,Homepage Featured Event
END:VEVENT
BEGIN:VEVENT
DTSTART;VALUE=DATE:20201126
DTEND;VALUE=DATE:20201127
DTSTAMP:20260424T033655
CREATED:20201109T170148Z
LAST-MODIFIED:20201109T170148Z
UID:2081-1606348800-1606435199@mustardseedms.org
SUMMARY:Happy Thanksgiving!
DESCRIPTION:
URL:https://mustardseedms.org/event/happy-thanksgiving/
CATEGORIES:Activity Center
END:VEVENT
BEGIN:VEVENT
DTSTART;TZID=America/Chicago:20201130T093000
DTEND;TZID=America/Chicago:20201130T103000
DTSTAMP:20260424T033655
CREATED:20201109T170154Z
LAST-MODIFIED:20201109T170154Z
UID:2098-1606728600-1606732200@mustardseedms.org
SUMMARY:Visit with Therapy Dog Archie
DESCRIPTION:
URL:https://mustardseedms.org/event/visit-with-therapy-dog-archie-9/
CATEGORIES:Activity Center
END:VEVENT
BEGIN:VEVENT
DTSTART;VALUE=DATE:20201201
DTEND;VALUE=DATE:20201202
DTSTAMP:20260424T033655
CREATED:20201207T230040Z
LAST-MODIFIED:20201207T230040Z
UID:2164-1606780800-1606867199@mustardseedms.org
SUMMARY:Eat a Red Apple Day
DESCRIPTION:
URL:https://mustardseedms.org/event/eat-a-red-apple-day/
CATEGORIES:Activity Center
END:VEVENT
BEGIN:VEVENT
DTSTART;TZID=America/Chicago:20201201T110000
DTEND;TZID=America/Chicago:20201201T190000
DTSTAMP:20260424T033655
CREATED:20201106T022206Z
LAST-MODIFIED:20201130T164622Z
UID:2064-1606820400-1606849200@mustardseedms.org
SUMMARY:Pop Up Shop at Highland Park in Flowood
DESCRIPTION:Join us for a Mustard Seed gift shop pop up shop at Highland Park in Flowood from 11AM-7PM on Tuesday\, December 1st!
URL:https://mustardseedms.org/event/pop-up-shop-at-highland-park-at-renaissance/
CATEGORIES:Events,Gift Shop,Homepage Featured Event
END:VEVENT
BEGIN:VEVENT
DTSTART;TZID=America/Chicago:20201202T143000
DTEND;TZID=America/Chicago:20201202T153000
DTSTAMP:20260424T033655
CREATED:20201207T230043Z
LAST-MODIFIED:20201207T230043Z
UID:2171-1606919400-1606923000@mustardseedms.org
SUMMARY:Birthday Bash
DESCRIPTION:
URL:https://mustardseedms.org/event/birthday-bash-12/
CATEGORIES:Activity Center
END:VEVENT
BEGIN:VEVENT
DTSTART;VALUE=DATE:20201204
DTEND;VALUE=DATE:20201205
DTSTAMP:20260424T033655
CREATED:20201207T230040Z
LAST-MODIFIED:20201207T230040Z
UID:2165-1607040000-1607126399@mustardseedms.org
SUMMARY:National Cookie Day
DESCRIPTION:
URL:https://mustardseedms.org/event/national-cookie-day/
CATEGORIES:Activity Center
END:VEVENT
BEGIN:VEVENT
DTSTART;TZID=America/Chicago:20201204T100000
DTEND;TZID=America/Chicago:20201204T160000
DTSTAMP:20260424T033655
CREATED:20201207T230043Z
LAST-MODIFIED:20201207T230043Z
UID:2172-1607076000-1607097600@mustardseedms.org
SUMMARY:It's Beginning to Look a Lot Like Christmas…
DESCRIPTION:Come ready to help us put up all of our Christmas decorations and decorate some Christmas cookies! We’ll also have lunch from the Hungry Goat and a Coffee & Chocolate Bar!
URL:https://mustardseedms.org/event/its-beginning-to-look-a-lot-like-christmas/
CATEGORIES:Activity Center
END:VEVENT
END:VCALENDAR